BEGIN:VCALENDAR
VERSION:2.0
PRODID:-//ChamberMaster//Event Calendar 2.0//EN
METHOD:PUBLISH
X-PUBLISHED-TTL:P3D
REFRESH-INTERVAL:P3D
CALSCALE:GREGORIAN
BEGIN:VEVENT
DTSTART;VALUE=DATE:20161022
DTEND;VALUE=DATE:20161024
TRANSP:TRANSPARENT
X-MICROSOFT-CDO-ALLDAYEVENT:TRUE
SUMMARY:Fibermania
DESCRIPTION:A natural fiber show with vendors\, demonstrations\, and workshops. Featuring fiber artist\, raw fiber and finished fiber products.\n\n\n\nFiber art supplies\, yearn\, roving\, equipment for sale.\n\n\n\nClasses and demonstrations\, raffle\, and food vendors are available.\n\n\n\nFree Admission
X-ALT-DESC;FMTTYPE=text/html:<strong>A natural fiber show with vendors\, demonstrations\, and workshops. Featuring fiber artist\, raw fiber and finished fiber products.<br />\n<br />\nFiber art supplies\, yearn\, roving\, equipment for sale.<br />\n<br />\nClasses and demonstrations\, raffle\, and food vendors are available.<br />\n<br />\nFree Admission</strong>
LOCATION:Josephine County Fairgrounds
UID:e.1818.15517
SEQUENCE:3
DTSTAMP:20260425T162924Z
URL:https://business.grantspasschamber.org/events/details/fibermania-10-22-2016-15517
END:VEVENT

END:VCALENDAR
