BEGIN:VCALENDAR
VERSION:2.0
PRODID:-//ChamberMaster//Event Calendar 2.0//EN
METHOD:PUBLISH
X-PUBLISHED-TTL:P3D
REFRESH-INTERVAL:P3D
CALSCALE:GREGORIAN
BEGIN:VEVENT
DTSTART:20161022T160000Z
DTEND:20161023T230000Z
X-MICROSOFT-CDO-ALLDAYEVENT:FALSE
SUMMARY:FiberMania
DESCRIPTION:A natural fiber show featuring fiber artists\, raw fiber and finished fiber products. Fiber art supplies\, yarn\, roving\, equipment for sale. Classes and demonstrations\, raffle\, and food vendor are available.
X-ALT-DESC;FMTTYPE=text/html:<strong>A natural fiber show featuring fiber artists\, raw fiber and finished fiber products. Fiber art supplies\, yarn\, roving\, equipment for sale. Classes and demonstrations\, raffle\, and food vendor are available.&nbsp\;</strong>
LOCATION:Josephine County Fairgrounds - Pavillion -
UID:e.1818.15763
SEQUENCE:3
DTSTAMP:20260425T163019Z
URL:https://business.grantspasschamber.org/events/details/fibermania-10-22-2016-15763
END:VEVENT

END:VCALENDAR
