BEGIN:VCALENDAR
VERSION:2.0
PRODID:-//ChamberMaster//Event Calendar 2.0//EN
METHOD:PUBLISH
X-PUBLISHED-TTL:P3D
REFRESH-INTERVAL:P3D
CALSCALE:GREGORIAN
BEGIN:VEVENT
DTSTART:20250508T210000Z
DTEND:20250508T230000Z
X-MICROSOFT-CDO-ALLDAYEVENT:FALSE
SUMMARY:Filing and Paying Taxes Electronically\, Step by Step
DESCRIPTION:Whether you are a Sole Proprietor\, Partnership\, Corporation\, Charity or Non-profit\, you can make your tax responsibilities easier with the IRS by electronic payments. Do you pay your taxes electronically?\n\n\n\nThis class covers:\n\n  Benefits of Paying Electronically\n\n  Electronic Funds Withdrawal\n\n  Electronic Filing Tax Payment System (EFTPS) and EFTPS Payment Methods\n\n\n\nDavid Higgins works for the IRS in the Communications and Liaison Division as a Tax Specialist in Seattle\, WA. David serves as the primary IRS contact to community\, industry\, and business organizations throughout the State of Washington. David coordinates\, educates\, and presents a variety of tax topics to all taxpayer communities\, including employers\, community groups\, small business resource partners and tax practitioner organizations.\n\n\n\nDavid began his career with the Internal Revenue Service in 2010\, and worked in many general program areas concentrating on Taxpayer Service\, education\, compliance\, and technical tax law issues. Before joining the IRS\, David served in the US Census providing outreach to community groups.
X-ALT-DESC;FMTTYPE=text/html:<span style="font-size:20px\;"><span style="color: rgb(0\, 0\, 0)\; font-family: arial\;">Whether you are a Sole Proprietor\, Partnership\, Corporation\, Charity or Non-profit\, you can make your tax responsibilities easier with the IRS by electronic payments. Do you pay your taxes electronically?<br />\n<br />\nThis class covers:<br />\n&bull\; Benefits of Paying Electronically<br />\n&bull\; Electronic Funds Withdrawal<br />\n&bull\; Electronic Filing Tax Payment System (EFTPS) and EFTPS Payment Methods<br />\n<br />\nDavid Higgins works for the IRS in the Communications and Liaison Division as a Tax Specialist in Seattle\, WA. David serves as the primary IRS contact to community\, industry\, and business organizations throughout the State of Washington. David coordinates\, educates\, and presents a variety of tax topics to all taxpayer communities\, including employers\, community groups\, small business resource partners and tax practitioner organizations.<br />\n<br />\nDavid began his career with the Internal Revenue Service in 2010\, and worked in many general program areas concentrating on Taxpayer Service\, education\, compliance\, and technical tax law issues. Before joining the IRS\, David served in the US Census providing outreach to community groups.</span></span><br />\n&nbsp\;
LOCATION:Webinar Link
UID:e.1818.54641
SEQUENCE:3
DTSTAMP:20260419T115836Z
URL:https://business.grantspasschamber.org/events/details/filing-and-paying-taxes-electronically-step-by-step-54641
END:VEVENT

END:VCALENDAR
