BEGIN:VCALENDAR
VERSION:2.0
PRODID:-//ChamberMaster//Event Calendar 2.0//EN
METHOD:PUBLISH
X-PUBLISHED-TTL:P3D
REFRESH-INTERVAL:P3D
CALSCALE:GREGORIAN
BEGIN:VEVENT
DTSTART:20160616T153000Z
DTEND:20160616T183000Z
X-MICROSOFT-CDO-ALLDAYEVENT:FALSE
SUMMARY:Financial Literacy or Time Management (depending on registrants)
DESCRIPTION:Sixteen steps on financial wellness in 2016\n	Winning the credit game\n	Raising money savvy children\n	Budgeting - Your road map to financial balance
X-ALT-DESC;FMTTYPE=text/html:<ul>\n	<li><strong>Sixteen steps on financial wellness in 2016</strong></li>\n	<li><strong>Winning the credit game</strong></li>\n	<li><strong>Raising money savvy children</strong></li>\n	<li><strong>Budgeting - Your road map to financial balance</strong></li>\n</ul>\n
LOCATION:900 SE Eighth St Grants Pass Hamilton House (the blue house in the Family Resource Center parking lot)
UID:e.1818.15774
SEQUENCE:3
DTSTAMP:20260425T223941Z
URL:https://business.grantspasschamber.org/events/details/financial-literacy-or-time-management-depending-on-registrants-15774
END:VEVENT

END:VCALENDAR
