BEGIN:VCALENDAR
VERSION:2.0
PRODID:-//ChamberMaster//Event Calendar 2.0//EN
METHOD:PUBLISH
X-PUBLISHED-TTL:P3D
REFRESH-INTERVAL:P3D
CALSCALE:GREGORIAN
BEGIN:VEVENT
DTSTART:20191203T170000Z
DTEND:20191203T230000Z
X-MICROSOFT-CDO-ALLDAYEVENT:FALSE
SUMMARY:First Call Resolution Hiring Event
DESCRIPTION:FCR HIRING EVENT \n\nDecember 3rd\, 9:00 am - 3:00 pm \n\n1569 NE. F St.\, Grants Pass\, Parkway Village\n\n\nCustomer Service Representatives\n\nFCR - What exactly do we do here? We do inbound customer/technical support via phone\, chat\, email and social media for a variety of different clients.\n\nWe do NOT do any cold calling or collections and are different (in a good way) than any other call center.\n\nWe work hard but we play hard too with all kinds of monthly fun events for our colleagues.\n\nWe have supportive leadership\, promote from within\, offer full benefits (medical\, dental\, vision\, life & retirement)\, paid and unpaid sick days\, paid vacation and an amazing work environment. \n\n\n\nDetails through the Oregon Employment Dept. HERE
X-ALT-DESC;FMTTYPE=text/html:<div style="text-align:center"><span style="font-size:14px"><span style="color:#3399cc"><span style="font-size:18px"><strong>FCR&nbsp\;HIRING EVENT</strong>&nbsp\;<br />\n<u>December&nbsp\;3rd\, 9:00 am - 3:00 pm&nbsp\;</u><br />\n1569 NE. F St.\, Grants Pass\, Parkway Village</span></span></span></div>\n<br />\n<span style="font-size:16px"><strong>Customer Service Representatives</strong><br />\nFCR -&nbsp\;<em>What exactly do we do here? We do inbound customer/technical support via phone\, chat\, email and social media for a variety of different clients.<br />\nWe do NOT do any cold calling or collections and are different (in a good way) than any other call center.<br />\nWe work hard but we play hard too with all kinds of monthly fun events for our colleagues.<br />\nWe have supportive leadership\, promote from within\, offer full benefits (medical\, dental\, vision\, life &amp\; retirement)\, paid and unpaid sick days\, paid vacation and an amazing work environment.&nbsp\;</em><br />\n<br />\nDetails through the Oregon Employment Dept. <strong><a href="https://secure.emp.state.or.us/jobs/index.cfm?location_content=jobdisplay.cfm&amp\;ord=2485731&amp\;system=WIOA&amp\;type=N&amp\;lang=E">HERE&nbsp\;</a></strong></span><br />\n&nbsp\;
LOCATION:WorkSource Rogue Valley~GP 1569 NE. F St.\, Grants Pass\, Parkway Village
UID:e.1818.32366
SEQUENCE:3
DTSTAMP:20260423T204413Z
URL:https://business.grantspasschamber.org/events/details/first-call-resolution-hiring-event-32366
END:VEVENT

END:VCALENDAR
