BEGIN:VCALENDAR
VERSION:2.0
PRODID:-//ChamberMaster//Event Calendar 2.0//EN
METHOD:PUBLISH
X-PUBLISHED-TTL:P3D
REFRESH-INTERVAL:P3D
CALSCALE:GREGORIAN
BEGIN:VEVENT
DTSTART:20160306T000000Z
DTEND:20160306T030000Z
X-MICROSOFT-CDO-ALLDAYEVENT:FALSE
SUMMARY:First Crush ~ 10th Annual
DESCRIPTION:Have you been thinking about how nice it would be to visit ALL of the great RESTAURANTS\, WINERIES AND BREW HOUSES that our valley has to offer?\n\n\n\nYOU CAN EXPERIENCE THEM ALL IN ONE PLACE! Showcasing the finest Southern Oregon Wine\, Beer\, Cheese\, Chocolate and Gourmet Food!\n\n\n\nProfits from the 10th Annual First Crush are invested right back into the community. Beneficiaries from First Crush 2016 will include: Raptor Creek Orchard and The ROC Food Pantry to continue to feed our communities. The Josephine County Backpack program and other organizations that support children and families. Join us for First Crush 2016
X-ALT-DESC;FMTTYPE=text/html:<strong>Have you been thinking about how nice it would be to visit ALL of the great RESTAURANTS\, WINERIES AND BREW HOUSES that our valley has to offer?<br />\n<br />\nYOU CAN EXPERIENCE THEM ALL IN ONE PLACE! Showcasing the finest Southern Oregon Wine\, Beer\, Cheese\, Chocolate and Gourmet Food!<br />\n<br />\n<em>Profits from the 10th Annual First Crush are invested right back into the community. Beneficiaries from First Crush 2016 will include: Raptor Creek Orchard and The ROC Food Pantry to continue to feed our communities. The Josephine County Backpack program and other organizations that support children and families. Join us for First Crush 2016</em></strong>
LOCATION:Josephine County Fair Grounds Pavilion/Pepsi Building 1451 Fairgrounds Road Grants Pass\, OR 97527
UID:e.1818.15762
SEQUENCE:3
DTSTAMP:20260426T030231Z
URL:https://business.grantspasschamber.org/events/details/first-crush-10th-annual-15762
END:VEVENT

END:VCALENDAR
