BEGIN:VCALENDAR
VERSION:2.0
PRODID:-//ChamberMaster//Event Calendar 2.0//EN
METHOD:PUBLISH
X-PUBLISHED-TTL:P3D
REFRESH-INTERVAL:P3D
CALSCALE:GREGORIAN
BEGIN:VEVENT
DTSTART;VALUE=DATE:20160401
DTEND;VALUE=DATE:20160402
TRANSP:TRANSPARENT
X-MICROSOFT-CDO-ALLDAYEVENT:TRUE
SUMMARY:First Friday Library Fundraiser
DESCRIPTION:Please join us on FIRST FRIDAY as we Host A Fun............\n\nMusic\, Art\n\n& Fundraising \n\nEvent for our Local Libraries\n\n\n\nLive Music By:  The Honey Bee Choir &\n\n\n\nB Wishes\n\nRyan Nolan\, John Nolan & Dave Smith
X-ALT-DESC;FMTTYPE=text/html:<strong>Please join us on FIRST FRIDAY as we Host A Fun............<br />\n<em><u>Music\, Art<br />\n&amp\; Fundraising </u></em><br />\nEvent for our Local Libraries<br />\n<br />\nLive Music By:&nbsp\; The Honey Bee Choir &amp\;<br />\n<br />\nB Wishes<br />\nRyan Nolan\, John Nolan &amp\; Dave Smith</strong>
LOCATION:Rogue Roasters 610 SW 6th Street
UID:e.1818.16875
SEQUENCE:3
DTSTAMP:20260426T013147Z
URL:https://business.grantspasschamber.org/events/details/first-friday-library-fundraiser-04-01-2016-16875
END:VEVENT

END:VCALENDAR
