BEGIN:VCALENDAR
VERSION:2.0
PRODID:-//ChamberMaster//Event Calendar 2.0//EN
METHOD:PUBLISH
X-PUBLISHED-TTL:P3D
REFRESH-INTERVAL:P3D
CALSCALE:GREGORIAN
BEGIN:VEVENT
DTSTART:20160604T000000Z
DTEND:20160604T040000Z
X-MICROSOFT-CDO-ALLDAYEVENT:FALSE
SUMMARY:First Friday Live
DESCRIPTION:First Friday Live is a monthly community celebration taking place in downtown Grants Pass. Our retailers\, galleries\, and restaurants host special receptions\, performances\, screenings\, and other events showcasing the work of local and regional artists. Other creative pursuits are also celebrated: culinary\, crafts\, music\, and theatrical.\n\n\n\nThe mission is to form a cohesive and vibrant downtown by uniting and highlighting our unique businesses while celebrating our dynamic community. Follow us on Facebook for updated information.
X-ALT-DESC;FMTTYPE=text/html:<strong>First Friday Live is a monthly community celebration taking place in downtown Grants Pass. Our retailers\, galleries\, and restaurants host special receptions\, performances\, screenings\, and other events showcasing the work of local and regional artists. Other creative pursuits are also celebrated: culinary\, crafts\, music\, and theatrical.<br />\n<br />\nThe mission is to form a cohesive and vibrant downtown by uniting and highlighting our unique businesses while celebrating our dynamic community. Follow us on Facebook for updated information.</strong>
LOCATION:Downtown Grants Pass 198 SW 6th St
UID:e.1818.17501
SEQUENCE:3
DTSTAMP:20260425T223458Z
URL:https://business.grantspasschamber.org/events/details/first-friday-live-06-03-2016-17501
END:VEVENT

END:VCALENDAR
