BEGIN:VCALENDAR
VERSION:2.0
PRODID:-//ChamberMaster//Event Calendar 2.0//EN
METHOD:PUBLISH
X-PUBLISHED-TTL:P3D
REFRESH-INTERVAL:P3D
CALSCALE:GREGORIAN
BEGIN:VEVENT
DTSTART:20161008T000000Z
DTEND:20161008T040000Z
X-MICROSOFT-CDO-ALLDAYEVENT:FALSE
SUMMARY:First Friday Live ~ ''Chalk the Walk''
DESCRIPTION:Downtown Grants Pass comes alive with music and art.  Kick Off of "Art Along the Rogue".\n\n\n\nThere are various shops\, galleries and restaurants open late displaying local art and musical talent. Some stores have free wine tastings
X-ALT-DESC;FMTTYPE=text/html:<strong><span style="color:black\;"><span style="font-family:arial\,sans-serif\;"><span style="font-size:10.0pt\;">Downtown Grants Pass comes alive with music and art.&nbsp\; Kick Off of &quot\;Art Along the Rogue&quot\;.<br />\n<br />\nThere are various shops\, galleries and restaurants open late displaying local art and musical talent. Some stores have free wine tastings</span></span></span></strong>
LOCATION:Downtown Grants Pass
UID:e.1818.8467
SEQUENCE:3
DTSTAMP:20260425T162857Z
URL:https://business.grantspasschamber.org/events/details/first-friday-live-chalk-the-walk-8467
END:VEVENT

END:VCALENDAR
