BEGIN:VCALENDAR
VERSION:2.0
PRODID:-//ChamberMaster//Event Calendar 2.0//EN
METHOD:PUBLISH
X-PUBLISHED-TTL:P3D
REFRESH-INTERVAL:P3D
CALSCALE:GREGORIAN
BEGIN:VEVENT
DTSTART;VALUE=DATE:20160603
DTEND;VALUE=DATE:20160604
TRANSP:TRANSPARENT
X-MICROSOFT-CDO-ALLDAYEVENT:TRUE
SUMMARY:First Friday @ Rogue Roasters
DESCRIPTION:Join us this Grants Pass First Friday Live for live music and fresh art!\n\nThis months local artist is: Brandace Rojo \n\nAnd coming to you from Bend\, OR we have the very talented Third Seven\, also known as the Mad Cello Scientist!
X-ALT-DESC;FMTTYPE=text/html:<p><strong>Join us this&nbsp\;<a class="profileLink" href="https://www.facebook.com/gpfirstfridayartwalk/" style="color: rgb(54\, 88\, 153)\; cursor: pointer\; text-decoration: none\;">Grants Pass First Friday Live</a>&nbsp\;for live music and fresh art!</strong></p>\n\n<p><strong>This months local artist is: Brandace Rojo&nbsp\;</strong></p>\n\n<p><strong>And coming to you from Bend\, OR we have the very talented Third Seven\, also known as the Mad Cello Scientist!</strong></p>\n<br />\n&nbsp\;
LOCATION:Rogue Roasters
UID:e.1818.17526
SEQUENCE:3
DTSTAMP:20260425T223559Z
URL:https://business.grantspasschamber.org/events/details/first-friday-rogue-roasters-06-03-2016-17526
END:VEVENT

END:VCALENDAR
