BEGIN:VCALENDAR
VERSION:2.0
PRODID:-//ChamberMaster//Event Calendar 2.0//EN
METHOD:PUBLISH
X-PUBLISHED-TTL:P3D
REFRESH-INTERVAL:P3D
CALSCALE:GREGORIAN
BEGIN:VEVENT
DTSTART:20370103T010000Z
DTEND:20370103T040000Z
X-MICROSOFT-CDO-ALLDAYEVENT:FALSE
SUMMARY:FIRST FRIDAY STROLL ~ Grants Pass Historic Downtown
DESCRIPTION:First Friday is the perfect way to kick off your weekend in downtown Grants Pass! On the first Friday of every month\, local businesses keep their doors open late\, offering unique specials\, refreshments\, and a warm community atmosphere. Stroll through downtown to enjoy live music\, art displays\, and family-friendly activities. With food trucks\, pop-up vendors\, and a vibrant energy\, First Friday is a celebration of everything that makes Grants Pass special.
X-ALT-DESC;FMTTYPE=text/html:<div style="text-align: center\;"><span style="color: rgb(80\, 80\, 80)\; font-family: Raleway\, sans-serif\; font-size: 20px\; background-color: rgb(255\, 255\, 255)\;">First Friday is the perfect way to kick off your weekend in downtown Grants Pass!&nbsp\;</span><span style="color: rgb(80\, 80\, 80)\; font-family: Raleway\, sans-serif\; font-size: 20px\; text-align: center\; background-color: rgb(255\, 255\, 255)\;">On the first Friday of every month\, local businesses keep their doors open late\, offering unique specials\, refreshments\, and a warm community atmosphere.</span><span style="color: rgb(80\, 80\, 80)\; font-family: Raleway\, sans-serif\; font-size: 20px\; background-color: rgb(255\, 255\, 255)\;"> Stroll through downtown to enjoy live music\, art displays\, and family-friendly activities. With food trucks\, pop-up vendors\, and a vibrant energy\, First Friday is a celebration of everything that makes Grants Pass special.</span></div>\n
LOCATION:Downtown Historical Grants Pass
UID:e.1818.59783
SEQUENCE:3
DTSTAMP:20260424T145523Z
URL:https://business.grantspasschamber.org/events/details/first-friday-stroll-grants-pass-historic-downtown-01-02-2037-59783
END:VEVENT

END:VCALENDAR
