BEGIN:VCALENDAR
VERSION:2.0
PRODID:-//ChamberMaster//Event Calendar 2.0//EN
METHOD:PUBLISH
X-PUBLISHED-TTL:P3D
REFRESH-INTERVAL:P3D
CALSCALE:GREGORIAN
BEGIN:VEVENT
DTSTART:20160415T150000Z
DTEND:20160415T180000Z
X-MICROSOFT-CDO-ALLDAYEVENT:FALSE
SUMMARY:First Impression
DESCRIPTION:First Impression Presentation
X-ALT-DESC;FMTTYPE=text/html:First Impression Presentation
LOCATION:City Council Chambers 101 NW A St
UID:e.1818.17214
SEQUENCE:3
DTSTAMP:20260426T013032Z
URL:https://business.grantspasschamber.org/events/details/first-impression-04-15-2016-17214
END:VEVENT

END:VCALENDAR
