BEGIN:VCALENDAR
VERSION:2.0
PRODID:-//ChamberMaster//Event Calendar 2.0//EN
METHOD:PUBLISH
X-PUBLISHED-TTL:P3D
REFRESH-INTERVAL:P3D
CALSCALE:GREGORIAN
BEGIN:VEVENT
DTSTART:20161112T020000Z
DTEND:20161112T020000Z
X-MICROSOFT-CDO-ALLDAYEVENT:FALSE
SUMMARY:FISH & SHRIMP Dinner\, ROC Fundraiser
DESCRIPTION:THIS IS A FUND RAISING DINNER FOR THE GRANTS PASS ROC FOOD PANTRY THE DINNER IS $10.00 CLAM CHOWDER\, FISH\,SHRIMP\,BAKED POTATOE.VEGGS. WE WILL BE HAVING A COUPLE OF RAFFLES .\n\n\n\nBRING IN A NON PERISHABLE FOOD ITEM AND GET A RAFFLE TICKET FOR OUR THANKSGIVING RAFFLE. THERE IS GOING TO BE A BAND AFTER DINNER WE ARE PRE SELLING TICKETS
X-ALT-DESC;FMTTYPE=text/html:<strong>THIS IS A FUND RAISING DINNER FOR THE GRANTS PASS ROC FOOD PANTRY THE DINNER IS $10.00 CLAM CHOWDER\, FISH\,SHRIMP\,BAKED POTATOE.VEGGS. WE WILL BE HAVING A COUPLE OF RAFFLES .<br />\n<br />\nBRING IN A NON PERISHABLE FOOD ITEM AND GET A RAFFLE TICKET FOR OUR THANKSGIVING RAFFLE. THERE IS GOING TO BE A BAND AFTER DINNER WE ARE PRE SELLING TICKETS</strong>
LOCATION:GRANTS PASS/MERLIN MOOSE LODGE 330 MERLIN AVE. MERLIN
UID:e.1818.17964
SEQUENCE:3
DTSTAMP:20260425T143124Z
URL:https://business.grantspasschamber.org/events/details/fish-shrimp-dinner-roc-fundraiser-17964
END:VEVENT

END:VCALENDAR
