BEGIN:VCALENDAR
VERSION:2.0
PRODID:-//ChamberMaster//Event Calendar 2.0//EN
METHOD:PUBLISH
X-PUBLISHED-TTL:P3D
REFRESH-INTERVAL:P3D
CALSCALE:GREGORIAN
BEGIN:VEVENT
DTSTART:20160613T230000Z
DTEND:20160614T020000Z
X-MICROSOFT-CDO-ALLDAYEVENT:FALSE
SUMMARY:FLY FISHING DINNER
DESCRIPTION:American Legion Post and Unit 28 are presenting the Project Healing Waters Fly Fishing Fundraiser Dinner on Monday\, June 13\, from 4:00 until 7:00 p.m. at the Post\, 206 NW F Street @ NW 5th Street.\n\n\n\nServing Spaghetti\, Tossed Salad\, Garlic Bread and Dessert. $6 per person.\n\n\n\nFor information call 541-474-6400\, Proceeds will benefit the physical and emotional rehabilitation of disabled active military service personnel and veterans through fly fishing and fly tying education and outings.
X-ALT-DESC;FMTTYPE=text/html:<strong>American Legion Post and Unit 28 are presenting the Project Healing Waters Fly Fishing Fundraiser Dinner on Monday\, June 13\, from 4:00 until 7:00 p.m. at the Post\, 206 NW F Street @ NW 5th Street.<br />\n<br />\nServing Spaghetti\, Tossed Salad\, Garlic Bread and Dessert. $6 per person.<br />\n<br />\nFor information call 541-474-6400\, Proceeds will benefit the physical and emotional rehabilitation of disabled active military service personnel and veterans through fly fishing and fly tying education and outings.</strong>
LOCATION:American Legion Post and Unit 28 206 NW F ST @ NW 5TH ST
UID:e.1818.17547
SEQUENCE:3
DTSTAMP:20260425T223823Z
URL:https://business.grantspasschamber.org/events/details/fly-fishing-dinner-06-13-2016-17547
END:VEVENT

END:VCALENDAR
