BEGIN:VCALENDAR
VERSION:2.0
PRODID:-//ChamberMaster//Event Calendar 2.0//EN
METHOD:PUBLISH
X-PUBLISHED-TTL:P3D
REFRESH-INTERVAL:P3D
CALSCALE:GREGORIAN
BEGIN:VEVENT
DTSTART;VALUE=DATE:20161112
DTEND;VALUE=DATE:20161113
TRANSP:TRANSPARENT
X-MICROSOFT-CDO-ALLDAYEVENT:TRUE
SUMMARY:Forever Honor\, Never Forget ~ A Tribute To Our Veterans
DESCRIPTION:Show your appreciation as we dedicate Southern Oregon's largest American Flag to Veterans who have served our country.\n\n\n\nWelcome Home\, Thank You Party for Vets!!\n\n\n\nGPHS Band\, Forever Honor Riders\, guest speaker Rep Carl Wilson and Fly Over\, RCC Choir\, Garnet "Butch" Martin\, Veteran Displays and refreshments.\n\n\n\nNational Anthem by Jessica Daggett\, Veterans Displays\,\n\nand Refreshments\n\n\n\nThis 40ft x 60 ft flag stands 150ft tall and is the largest of its kind in Josephine County.\n\n\n\nBeneath this flag visitors can enjoy the BearFest Bear "America" which honors the service and sacrifice of our American Veterans.\n\n\n\nPARKING ~  Free shuttle service from YMCA parking lot to event site from 10:30am to 12pm
X-ALT-DESC;FMTTYPE=text/html:<strong>Show your appreciation as we dedicate <u>Southern Oregon&#39\;s largest American Flag to Veterans who have served our country.</u><br />\n<br />\n<span style="color:#FF0000\;"><span style="font-size: 18px\;">Welcome Home\, Thank You Party for Vets!!</span></span><br />\n<br />\nGPHS Band\, Forever Honor Riders\, guest speaker Rep Carl Wilson and Fly Over\, RCC Choir\, Garnet &quot\;Butch&quot\; Martin\, Veteran Displays and refreshments.</strong><br />\n<br />\n<strong>National Anthem by Jessica Daggett\, Veterans Displays\,<br />\nand Refreshments<br />\n<br />\n<u><em>This 40ft x 60 ft flag stands 150ft tall and is the largest of its kind in Josephine County.</em></u><br />\n<br />\nBeneath this flag visitors can enjoy the <u>BearFest Bear &quot\;America&quot\;</u> which honors the service and sacrifice of our American Veterans.<br />\n<br />\n<span style="color:#FF0000\;"><u>PARKING</u></span> ~&nbsp\; Free shuttle service from YMCA parking lot to event site from 10:30am to 12pm</strong>
LOCATION:300 Union Avenue Grants Pass (Located in between Union Avenue & Redwood Hwy and be seen along Redwood Highway 199) PARKING ~ Free shuttle service from YMCA parking lot to event site from 10:30am to 12pm
UID:e.1818.18045
SEQUENCE:3
DTSTAMP:20260425T145113Z
URL:https://business.grantspasschamber.org/events/details/forever-honor-never-forget-a-tribute-to-our-veterans-18045
END:VEVENT

END:VCALENDAR
