BEGIN:VCALENDAR
VERSION:2.0
PRODID:-//ChamberMaster//Event Calendar 2.0//EN
METHOD:PUBLISH
X-PUBLISHED-TTL:P3D
REFRESH-INTERVAL:P3D
CALSCALE:GREGORIAN
BEGIN:VEVENT
DTSTART:20161021T010000Z
DTEND:20161021T033000Z
X-MICROSOFT-CDO-ALLDAYEVENT:FALSE
SUMMARY:Fraud Prevention Seminar ~ SOFFAST
DESCRIPTION:2016 Fraud Prevention Seminar\n\nPresented by:  Southern Oregon Financial Fraud & Security Team\n\nSpeakers:\n\n\n	Lesley Donaghy\, GP Dept of Public Safety\n	Ryan Mulkins\, JoCo District Attorney\n	Ken Musante\, Eureka Payments\n\nRefreshments will be provided by SOFFAST
X-ALT-DESC;FMTTYPE=text/html:<strong><span style="font-size:16px\;">2016 Fraud Prevention Seminar</span><br />\nPresented by:&nbsp\; Southern Oregon Financial Fraud &amp\; Security Team<br />\n<u>Speakers</u>:</strong>\n\n<ul>\n	<li><strong>Lesley Donaghy\, GP Dept of Public Safety</strong></li>\n	<li><strong>Ryan Mulkins\, JoCo District Attorney</strong></li>\n	<li><strong>Ken Musante\, Eureka Payments</strong></li>\n</ul>\n<strong>Refreshments will be provided by SOFFAST</strong>
LOCATION:Evergreen Federal Bear Hotel 2101 NE Spalding Ave Grants Pass
UID:e.1818.17461
SEQUENCE:3
DTSTAMP:20260425T163028Z
URL:https://business.grantspasschamber.org/events/details/fraud-prevention-seminar-soffast-05-12-2016-17461
END:VEVENT

END:VCALENDAR
