BEGIN:VCALENDAR
VERSION:2.0
PRODID:-//ChamberMaster//Event Calendar 2.0//EN
METHOD:PUBLISH
X-PUBLISHED-TTL:P3D
REFRESH-INTERVAL:P3D
CALSCALE:GREGORIAN
BEGIN:VEVENT
DTSTART;VALUE=DATE:20160919
DTEND;VALUE=DATE:20160920
TRANSP:TRANSPARENT
X-MICROSOFT-CDO-ALLDAYEVENT:TRUE
SUMMARY:FREE Community Workshop ~ Speaking on Marijuana
DESCRIPTION:Ray Lozano a Drug & Substance Prevention Specialist Speaks on Marijuana\n\n\n\nCome Hear an engaging\, funny\, awesome speaker\n\n\n\nRay Lazano has a talent and gift for conveying what could be construed as a boring drug prevention information in such a fun and humorous way that his audiences come away informed and entertained.\n\n\n\nWho Should Attend?\n\nParents\, Youth\, Families\, Community Members\, Grandparents\, Teachers\, Business Owners.   Everyone !!
X-ALT-DESC;FMTTYPE=text/html:<strong>Ray Lozano a Drug &amp\; Substance Prevention Specialist Speaks on Marijuana<br />\n<br />\n<u>Come Hear an engaging\, funny\, awesome speaker</u><br />\n<br />\nRay Lazano has a talent and gift for conveying what could be construed as a boring drug prevention information in such a fun and humorous way that his audiences come away informed and entertained.<br />\n<br />\n<u>Who Should Attend?</u><br />\nParents\, Youth\, Families\, Community Members\, Grandparents\, Teachers\, Business Owners.&nbsp\;&nbsp\; Everyone !!</strong>
LOCATION:GPHS Performing Arts Center 830 NE 9th Grants Pass
UID:e.1818.17815
SEQUENCE:3
DTSTAMP:20260425T181109Z
URL:https://business.grantspasschamber.org/events/details/free-community-workshop-speaking-on-marijuana-17815
END:VEVENT

END:VCALENDAR
