BEGIN:VCALENDAR
VERSION:2.0
PRODID:-//ChamberMaster//Event Calendar 2.0//EN
METHOD:PUBLISH
X-PUBLISHED-TTL:P3D
REFRESH-INTERVAL:P3D
CALSCALE:GREGORIAN
BEGIN:VEVENT
DTSTART;VALUE=DATE:20160604
DTEND;VALUE=DATE:20160605
TRANSP:TRANSPARENT
X-MICROSOFT-CDO-ALLDAYEVENT:TRUE
SUMMARY:Free Family Fishing Day ~ Lake Selmac
DESCRIPTION:A free family finishing day in which families can fish with no licenses. Gear and bait will be provided.\n\n	Lake Selmac\, 9 a.m.   3 p.m. Josephine County's only Free Fishing Weekend event is sponsored by the Middle Rogue Steelheaders and ODFW's Angler Education program. Rods and reels are available for loan and bait is provided. There's a fishing contest for biggest live fish caught during the event\, and a 50/50 raffle. Information: 541-295-1682.
X-ALT-DESC;FMTTYPE=text/html:A free family finishing day in which families can fish with no licenses. Gear and bait will be provided.\n<ul style="color: rgb(0\, 0\, 0)\; font-family: Arial\, Helvetica\, sans-serif\; font-size: 13px\; font-style: normal\; font-variant: normal\; font-weight: normal\; letter-spacing: normal\; line-height: 15.6px\; orphans: auto\; text-align: start\; text-indent: 0px\; text-transform: none\; white-space: normal\; widows: 1\; word-spacing: 0px\; -webkit-text-stroke-width: 0px\; background-color: rgb(244\, 242\, 232)\;">\n	<li><strong style="font-weight: bold\;">Lake Selmac\,</strong> 9 a.m. &ndash\; 3 p.m. Josephine County&rsquo\;s only Free Fishing Weekend event is sponsored by the Middle Rogue Steelheaders and ODFW&rsquo\;s Angler Education program. Rods and reels are available for loan and bait is provided. There&rsquo\;s a fishing contest for biggest live fish caught during the event\, and a 50/50 raffle. Information: 541-295-1682.</li>\n</ul>\n
LOCATION:Lake Selmac
UID:e.1818.15257
SEQUENCE:3
DTSTAMP:20260425T224213Z
URL:https://business.grantspasschamber.org/events/details/free-family-fishing-day-lake-selmac-06-04-2016-15257
END:VEVENT

END:VCALENDAR
