BEGIN:VCALENDAR
VERSION:2.0
PRODID:-//ChamberMaster//Event Calendar 2.0//EN
METHOD:PUBLISH
X-PUBLISHED-TTL:P3D
REFRESH-INTERVAL:P3D
CALSCALE:GREGORIAN
BEGIN:VEVENT
DTSTART:20180210T230000Z
DTEND:20180211T003000Z
X-MICROSOFT-CDO-ALLDAYEVENT:FALSE
SUMMARY:FREE Juicing 101 Class- TRUE JUICE
DESCRIPTION:FREE Juicing 101 Class by TRUE JUICE!\n\n\n\nLearn the basics of Juicing... why and how a plant-based lifestyle including juicing can transform your health in a remarkably short time! Also\, learn just how to do a juice cleanse and detox\, why juicing is the best way to lose unhealthy extra pounds\, about the best juicers for your budget\, AND grab some juice recipes that you will love\, get little known juicing tips and tricks\, learn mistakes to avoid\, and more.\n\nTaught by our on-site Certified Health Coach and juicing expert\, plan to come and bring a friend....\n\n\n\nDemos\, plus Free samples\, and Juicing recipe sheets will be given out too... and a Raffle will be held for attendees to win a FREE one-day Cleanse package!!\n\n\n\nTo Register for Juicing 101\, (even though it's 100% FREE\, we need to know how many samples to prepare\, chairs to set up\, etc. \;) )\n\n\n\nPlease RSVP Here! \n\nso we have enough samples!\n\n\n\nPLEASE CLICK THE "GOING" BUTTON.\n\n\n\nIf you just click the "interested" button we will assume you think it's a cool event\, but don't plan to attend \;)\n\n\n\n*Suitable for Adults (older teens welcome)\n\n\n\nSee you there\, friends!
X-ALT-DESC;FMTTYPE=text/html:<br />\n<strong>FREE Juicing 101 Class by TRUE JUICE!<br />\n<br />\nLearn the basics of Juicing... why and how a plant-based lifestyle including juicing can transform your health in a remarkably short time! Also\, learn just how to do a juice cleanse and detox\, why juicing is the best way to lose unhealthy extra pounds\, about the best juicers for your budget\, AND grab some juice recipes that you will love\, get little known juicing tips and tricks\, learn mistakes to avoid\, and more.<br />\nTaught by our on-site Certified Health Coach and juicing expert\, plan to come and bring a friend....<br />\n<br />\nDemos\, plus Free samples\, and Juicing recipe sheets will be given out too... and a Raffle will be held for attendees to win a FREE one-day Cleanse package!!<br />\n<br />\nTo Register for Juicing 101\, (even though it&#39\;s 100% FREE\, we need to know how many samples to prepare\, chairs to set up\, etc. \;) )<br />\n<br />\n<span style="font-size:20px\;"><span style="color:#FF0000\;"><a href="https://www.facebook.com/events/373266979782566/">Please RSVP Here!</a>&nbsp\;<br />\nso we have enough samples!</span></span><br />\n<br />\nPLEASE CLICK THE &quot\;GOING&quot\; BUTTON.<br />\n<br />\nIf you just click the &quot\;interested&quot\; button we will assume you think it&#39\;s a cool event\, but don&#39\;t plan to attend \;)<br />\n<br />\n*Suitable for Adults (older teens welcome)<br />\n<br />\nSee you there\, friends!</strong>
LOCATION:@ True Juice 126 NW D St.\, Grants Pass (in the Health & Arts Hub Building)
UID:e.1818.25026
SEQUENCE:3
DTSTAMP:20260424T090458Z
URL:https://business.grantspasschamber.org/events/details/free-juicing-101-class-true-juice-25026
END:VEVENT

END:VCALENDAR
