BEGIN:VCALENDAR
VERSION:2.0
PRODID:-//ChamberMaster//Event Calendar 2.0//EN
METHOD:PUBLISH
X-PUBLISHED-TTL:P3D
REFRESH-INTERVAL:P3D
CALSCALE:GREGORIAN
BEGIN:VEVENT
DTSTART;VALUE=DATE:20160304
DTEND;VALUE=DATE:20160305
TRANSP:TRANSPARENT
X-MICROSOFT-CDO-ALLDAYEVENT:TRUE
SUMMARY:Free Pesticide Collection Event
DESCRIPTION:Free pesticide collection event for farms\, commercial and industrial applicators. Pre-registration required by February 18th. Forms available at jswcd.org. Send forms to gadzia.graham@cleanharbors.com
X-ALT-DESC;FMTTYPE=text/html:Free pesticide collection event for farms\, commercial and industrial applicators. Pre-registration required by February 18th. Forms available at jswcd.org. Send forms to gadzia.graham@cleanharbors.com
LOCATION:1381 Redwood Avenue Grants Pass
UID:e.1818.15789
SEQUENCE:3
DTSTAMP:20260426T030827Z
URL:https://business.grantspasschamber.org/events/details/free-pesticide-collection-event-03-04-2016-15789
END:VEVENT

END:VCALENDAR
