BEGIN:VCALENDAR
VERSION:2.0
PRODID:-//ChamberMaster//Event Calendar 2.0//EN
METHOD:PUBLISH
X-PUBLISHED-TTL:P3D
REFRESH-INTERVAL:P3D
CALSCALE:GREGORIAN
BEGIN:VEVENT
DTSTART:20160422T170000Z
DTEND:20160422T210000Z
X-MICROSOFT-CDO-ALLDAYEVENT:FALSE
SUMMARY:Free Shred Day ~ Banner Bank - South
DESCRIPTION:Protect yourself from identity theft by shredding personal documents you no longer need.  \n\n\n\nSimply bring your confidential documents to our South Grants Pass Branch and iSecure Inc will be on-site to safely and securely destroy your First Three Boxes or Bags for FREE
X-ALT-DESC;FMTTYPE=text/html:<strong>Protect yourself from identity theft by shredding personal documents you no longer need.&nbsp\; </strong><br />\n<br />\n<strong>Simply bring your confidential documents to our South Grants Pass Branch and iSecure Inc will be on-site to safely and securely destroy your First Three Boxes or Bags for FREE</strong>
LOCATION:Banner Bank - South Branch 1689 Williams Highway Grants Pass
UID:e.1818.17210
SEQUENCE:3
DTSTAMP:20260426T013809Z
URL:https://business.grantspasschamber.org/events/details/free-shred-day-banner-bank-south-04-22-2016-17210
END:VEVENT

END:VCALENDAR
