BEGIN:VCALENDAR
VERSION:2.0
PRODID:-//ChamberMaster//Event Calendar 2.0//EN
METHOD:PUBLISH
X-PUBLISHED-TTL:P3D
REFRESH-INTERVAL:P3D
CALSCALE:GREGORIAN
BEGIN:VEVENT
DTSTART:20211023T160000Z
DTEND:20211023T200000Z
X-MICROSOFT-CDO-ALLDAYEVENT:FALSE
SUMMARY:Free Shred Day ~ Northwest Community Credit Union
DESCRIPTION:Get rid of sensitive information safely for free!\n\nWe're providing a free\, secure way for our community members to get rid of personal documents!\n\n \n\nWhat can I bring?\n\nPlease limit your shredding to 5 file-size boxes to help us serve everyone efficiently.\n\nHere's an example of the kinds of things you can bring to shred:\n\n \n\n\n	\n		\n			DOCUMENTS\n		\n	\n	\n		\n			Bank statements\n\n			Credit card bills\n\n			Credit reports\n\n			Old pay stubs\n\n			Expired identification\n\n			Legal documents\n\n			Medical records\n\n			Tax forms\n\n			Utility bills\n		\n	\n\n\nTo see what other kinds of documents you should be shredding\, check out our blog post on when to shred which type of document.\n\nWhat happens to the stuff I bring in?\n\nWe've partnered with iSecure to shred your documents on-site.
X-ALT-DESC;FMTTYPE=text/html:<h3><br />\n<span style="font-size:18px\;"><span style="font-size:26px\;"><strong>Get rid of sensitive information safely for free!</strong></span></span></h3>\n\n<p><span style="font-size:18px\;">We&#39\;re providing a free\, secure way for our community members to get rid of personal documents!</span><br />\n&nbsp\;</p>\n\n<h4><span style="font-size:18px\;">What can I bring?</span></h4>\n\n<p><span style="font-size:18px\;">Please limit your shredding to&nbsp\;<strong>5 file-size boxes</strong>&nbsp\;to help us serve everyone efficiently.</span></p>\n\n<p><span style="font-size:18px\;">Here&#39\;s an example of the kinds of things you can bring to shred:</span></p>\n\n<div>&nbsp\;</div>\n\n<table class="large-only stacktable table" style="background-color:rgb(241\, 242\, 239)\; border-collapse:collapse\; border-spacing:0px\; border:1px solid rgb(230\, 229\, 223)\; color:rgb(86\, 90\, 92)\; font-family:roboto\,sans-serif\; font-size:16px\; margin-bottom:25px\; max-width:100%\; width:637.5px">\n	<thead>\n		<tr>\n			<th style="text-align:center\; vertical-align:bottom"><span style="font-size:18px\;">DOCUMENTS</span></th>\n		</tr>\n	</thead>\n	<tbody>\n		<tr>\n			<td style="vertical-align:middle\; width:636.5px"><span style="font-size:18px\;">Bank statements<br />\n			Credit card bills<br />\n			Credit reports<br />\n			Old pay stubs<br />\n			Expired identification<br />\n			Legal documents<br />\n			Medical records<br />\n			Tax forms<br />\n			Utility bills</span></td>\n		</tr>\n	</tbody>\n</table>\n\n<p><span style="font-size:18px\;">To see what other kinds of documents you should be shredding\,&nbsp\;<a href="https://www.nwcu.com/blog/which-documents-should-you-shred-when" style="box-sizing: border-box\; background-color: transparent\; color: rgb(89\, 127\, 84)\; transition: color 250ms ease-in-out 0s\;">check out our blog post on when to shred which type of document</a>.</span></p>\n\n<h4><span style="font-size:18px\;">What happens to the stuff I bring in?</span></h4>\n\n<p><span style="font-size:18px\;">We&rsquo\;ve partnered with&nbsp\;<a class="external-link" href="https://www.theshredcompany.com/" style="box-sizing: border-box\; background-color: transparent\; color: rgb(89\, 127\, 84)\; transition: color 250ms ease-in-out 0s\;">iSecure</a>&nbsp\;to shred your documents on-site.</span></p>\n
LOCATION:Northwest Community Credit Union 1532 NE F St. Grants Pass\, OR 97526
UID:e.1818.37878
SEQUENCE:3
DTSTAMP:20260421T074802Z
URL:https://business.grantspasschamber.org/events/details/free-shred-day-northwest-community-credit-union-37878
END:VEVENT

END:VCALENDAR
