BEGIN:VCALENDAR
VERSION:2.0
PRODID:-//ChamberMaster//Event Calendar 2.0//EN
METHOD:PUBLISH
X-PUBLISHED-TTL:P3D
REFRESH-INTERVAL:P3D
CALSCALE:GREGORIAN
BEGIN:VEVENT
DTSTART:20260312T220000Z
DTEND:20260313T000000Z
X-MICROSOFT-CDO-ALLDAYEVENT:FALSE
SUMMARY:FREE Veteran Dinner at the Post
DESCRIPTION:American Legion Grants Pass Post 28 located at 206 NW F St in Grants Pass is offering a Free Veteran Dinner on Thursday\, March 12th. They will be serving from 3:00pm-5:00pm.\n\n\n\nThis FREE dinner is made possible thanks to a generous donation to the Auxiliary. Beverages will be available for purchase. Donations are welcome.\n\n\n \n\n\nPlease feel free to call  for menu details. For planning purposes\, we ask that you RSVP by Wednesday\, March 11th by calling 541-474-6400. \n\n \n\nProceeds benefit the American Legion Grants Pass Post 28 Veteran programs
X-ALT-DESC;FMTTYPE=text/html:<div style="border: 0px\; font-variant-numeric: inherit\; font-variant-east-asian: inherit\; font-variant-alternates: inherit\; font-variant-position: inherit\; font-variant-emoji: inherit\; font-stretch: inherit\; font-size: 15px\; line-height: inherit\; font-family: &quot\;Segoe UI&quot\;\, &quot\;Segoe UI Web (West European)&quot\;\, -apple-system\, BlinkMacSystemFont\, Roboto\, &quot\;Helvetica Neue&quot\;\, sans-serif\; font-optical-sizing: inherit\; font-size-adjust: inherit\; font-kerning: inherit\; font-feature-settings: inherit\; font-variation-settings: inherit\; font-language-override: inherit\; margin: 0px\; padding: 0px\; vertical-align: baseline\; color: rgb(36\, 36\, 36)\; background-color: rgb(255\, 255\, 255)\;">\n<div data-olk-copy-source="MessageBody" style="border: 0px\; font: inherit\; margin: 0px\; padding: 0px\; vertical-align: baseline\; color: inherit\;"><span style="font-size:20px\;">American Legion Grants Pass Post 28 located at&nbsp\;</span><span style="color: rgb(36\, 36\, 36)\; font-family: &quot\;Segoe UI&quot\;\, &quot\;Segoe UI Web (West European)&quot\;\, -apple-system\, BlinkMacSystemFont\, Roboto\, &quot\;Helvetica Neue&quot\;\, sans-serif\; font-size: 20px\; background-color: rgb(255\, 255\, 255)\;">206 NW F St in&nbsp\;Grants Pass&nbsp\;</span><span style="font-size: 20px\;">is offering a Free Veteran Dinner on Thursday\, March 12th. They will be serving from 3:00pm-5:00pm.<br />\n<br />\nThis FREE dinner is made possible thanks to a generous donation to t</span><span style="font-size: 20px\; font-style: inherit\; font-variant-ligatures: inherit\; font-variant-caps: inherit\; font-weight: inherit\;">he Auxiliary.&nbsp\;</span><span style="color: rgb(36\, 36\, 36)\; font-family: &quot\;Segoe UI&quot\;\, &quot\;Segoe UI Web (West European)&quot\;\, -apple-system\, BlinkMacSystemFont\, Roboto\, &quot\;Helvetica Neue&quot\;\, sans-serif\; font-size: 20px\; background-color: rgb(255\, 255\, 255)\;">Beverages will be available for purchase. Donations are welcome.</span></div>\n</div>\n\n<div style="border: 0px\; font-variant-numeric: inherit\; font-variant-east-asian: inherit\; font-variant-alternates: inherit\; font-variant-position: inherit\; font-variant-emoji: inherit\; font-stretch: inherit\; font-size: 15px\; line-height: inherit\; font-family: &quot\;Segoe UI&quot\;\, &quot\;Segoe UI Web (West European)&quot\;\, -apple-system\, BlinkMacSystemFont\, Roboto\, &quot\;Helvetica Neue&quot\;\, sans-serif\; font-optical-sizing: inherit\; font-size-adjust: inherit\; font-kerning: inherit\; font-feature-settings: inherit\; font-variation-settings: inherit\; font-language-override: inherit\; margin: 0px\; padding: 0px\; vertical-align: baseline\; color: rgb(36\, 36\, 36)\; background-color: rgb(255\, 255\, 255)\;">&nbsp\;</div>\n\n<div style="border: 0px\; font-variant-numeric: inherit\; font-variant-east-asian: inherit\; font-variant-alternates: inherit\; font-variant-position: inherit\; font-variant-emoji: inherit\; font-stretch: inherit\; font-size: 15px\; line-height: inherit\; font-family: &quot\;Segoe UI&quot\;\, &quot\;Segoe UI Web (West European)&quot\;\, -apple-system\, BlinkMacSystemFont\, Roboto\, &quot\;Helvetica Neue&quot\;\, sans-serif\; font-optical-sizing: inherit\; font-size-adjust: inherit\; font-kerning: inherit\; font-feature-settings: inherit\; font-variation-settings: inherit\; font-language-override: inherit\; margin: 0px\; padding: 0px\; vertical-align: baseline\; color: rgb(36\, 36\, 36)\; background-color: rgb(255\, 255\, 255)\;">\n<div style="border: 0px\; font: inherit\; margin: 0px\; padding: 0px\; vertical-align: baseline\; color: inherit\;"><span style="color: rgb(36\, 36\, 36)\; font-family: &quot\;Segoe UI&quot\;\, &quot\;Segoe UI Web (West European)&quot\;\, -apple-system\, BlinkMacSystemFont\, Roboto\, &quot\;Helvetica Neue&quot\;\, sans-serif\; font-size: 20px\; background-color: rgb(255\, 255\, 255)\;">Please feel free to call&nbsp\; for menu details. For planning purposes\, we ask that you</span><span style="font-size:20px\;">&nbsp\;RSVP by Wednesday\, March 11th by calling 541-474-6400.&nbsp\;</span><br />\n&nbsp\;</div>\n\n<div style="border: 0px\; font: inherit\; margin: 0px\; padding: 0px\; vertical-align: baseline\; color: inherit\;"><span style="font-size:20px\;">Proceeds&nbsp\;benefit&nbsp\;the American Legion Grants Pass Post 28 Veteran programs</span></div>\n</div>\n
LOCATION:American Legion Post 28 206 NW F St\, GP
UID:e.1818.59053
SEQUENCE:3
DTSTAMP:20260423T073142Z
URL:https://business.grantspasschamber.org/events/details/free-veteran-dinner-at-the-post-59053
END:VEVENT

END:VCALENDAR
