BEGIN:VCALENDAR
VERSION:2.0
PRODID:-//ChamberMaster//Event Calendar 2.0//EN
METHOD:PUBLISH
X-PUBLISHED-TTL:P3D
REFRESH-INTERVAL:P3D
CALSCALE:GREGORIAN
BEGIN:VEVENT
DTSTART:20200501T170000Z
DTEND:20200501T173000Z
X-MICROSOFT-CDO-ALLDAYEVENT:FALSE
SUMMARY:Freedom Friday - Discover Arbonne with Candy Morasch Live on Facebook
DESCRIPTION:Join Candy\, Live on Facebook for a Discover Arbonne event.  Learn more about the small business side of Arbonne. Everyone needs a Plan B to create a home based asset income business in these unstable times. Earn while you Learn\, help others feel better from the inside out and leave a legacy.
X-ALT-DESC;FMTTYPE=text/html:Join Candy\, Live on Facebook for a Discover Arbonne event.&nbsp\; Learn more about the small business side of Arbonne. Everyone needs a Plan B to create a home based asset income business in these unstable times. Earn while you Learn\, help others feel better from the inside out and leave a legacy.&nbsp\;
LOCATION:Live on Facebook https://www.facebook.com/candy.morasch
UID:e.1818.33411
SEQUENCE:3
DTSTAMP:20260424T051026Z
URL:https://business.grantspasschamber.org/events/details/freedom-friday-discover-arbonne-with-candy-morasch-live-on-facebook-33411
END:VEVENT

END:VCALENDAR
