BEGIN:VCALENDAR
VERSION:2.0
PRODID:-//ChamberMaster//Event Calendar 2.0//EN
METHOD:PUBLISH
X-PUBLISHED-TTL:P3D
REFRESH-INTERVAL:P3D
CALSCALE:GREGORIAN
BEGIN:VEVENT
DTSTART:20161011T000000Z
DTEND:20161011T020000Z
X-MICROSOFT-CDO-ALLDAYEVENT:FALSE
SUMMARY:FRITTATA\, STRATA OR QUICHE
DESCRIPTION:Do you know the difference between these classic egg dishes? Each one is easy\, full of flavor and healthier than you think. Join us as we prepare all three varieties.\n\n\n\nFREE COOKING CLASS! Class includes recipes as well as samples of each item prepared. Classes will be held in the Demonstration Kitchen on the 4th Floor of the Asante Center for Outpatient Health located at 537 SW Union Avenue in Grants Pass.\n\n\n\nSpace is limited\, reservations are required. Please call and reserve your seat at 541-471-4208.
X-ALT-DESC;FMTTYPE=text/html:<strong>Do you know the difference between these classic egg dishes? Each one is easy\, full of flavor and healthier than you think. Join us as we prepare all three varieties.<br />\n<br />\nFREE COOKING CLASS! Class includes recipes as well as samples of each item prepared. Classes will be held in the Demonstration Kitchen on </strong>t<strong>he 4th Floor of the Asante Center for Outpatient Health located at 537 SW Union Avenue in Grants Pass.<br />\n<br />\nSpace is limited\, reservations are required. Please call and reserve your seat at 541-471-4208.</strong>
LOCATION:Classes are located at: Asante Center for Outpatient Health 537 SW Union Ave Grants Pass\, OR 97527 Demonstration Kitchen\, Fourth Floor Straight ahead off the elevator
UID:e.1818.17755
SEQUENCE:3
DTSTAMP:20260425T162852Z
URL:https://business.grantspasschamber.org/events/details/frittata-strata-or-quiche-17755
END:VEVENT

END:VCALENDAR
