BEGIN:VCALENDAR
VERSION:2.0
PRODID:-//ChamberMaster//Event Calendar 2.0//EN
METHOD:PUBLISH
X-PUBLISHED-TTL:P3D
REFRESH-INTERVAL:P3D
CALSCALE:GREGORIAN
BEGIN:VEVENT
DTSTART;VALUE=DATE:20160618
DTEND;VALUE=DATE:20160619
TRANSP:TRANSPARENT
X-MICROSOFT-CDO-ALLDAYEVENT:TRUE
SUMMARY:Frog O'Faire ~ Childrens Festival
DESCRIPTION:Since 1973 the AAUW has presented this wonderful childrens festival.\n\n\n\nA free children's arts and crafts festival with entertainment.  Hundreds of children come away with a handful of crafts\, from bird houses that they have hammered together themselves and hand painted tiles.  Even a marigold planted in a pot.
X-ALT-DESC;FMTTYPE=text/html:<strong>Since 1973 the AAUW has presented this wonderful childrens festival.<br />\n<br />\nA free children&#39\;s arts and crafts festival with entertainment.&nbsp\; Hundreds of children come away with a handful of crafts\, from bird houses that they have hammered together themselves and hand painted tiles.&nbsp\; Even a marigold planted in a pot.</strong>
LOCATION:Riverside Park
UID:e.1818.15265
SEQUENCE:3
DTSTAMP:20260425T224213Z
URL:https://business.grantspasschamber.org/events/details/frog-o-faire-childrens-festival-06-18-2016-15265
END:VEVENT

END:VCALENDAR
