BEGIN:VCALENDAR
VERSION:2.0
PRODID:-//ChamberMaster//Event Calendar 2.0//EN
METHOD:PUBLISH
X-PUBLISHED-TTL:P3D
REFRESH-INTERVAL:P3D
CALSCALE:GREGORIAN
BEGIN:VEVENT
DTSTART;VALUE=DATE:20160412
DTEND;VALUE=DATE:20160413
TRANSP:TRANSPARENT
X-MICROSOFT-CDO-ALLDAYEVENT:TRUE
SUMMARY:From Aces to Action ~ Presented at Performing Arts Center
DESCRIPTION:"How Systems Can Move to Sustainable Trauma-Informed Practice"\n\n\n\nThe Grants Pass School District is proud to host Dr. Christopher Blodgett who will share the research behind Adverse Childhood Experiences (ACE)\, how those experiences impact students and adults\, and what we can do to change home\, school and work environments.\n\n\n\nDr. Blodgett is a leading researcher on trauma informed practices and is a presenter at a national level.
X-ALT-DESC;FMTTYPE=text/html:<strong><u><em>&quot\;How Systems Can Move to Sustainable Trauma-Informed Practice&quot\;</em></u><br />\n<br />\nThe Grants Pass School District is proud to host Dr. Christopher Blodgett who will share the research behind Adverse Childhood Experiences (ACE)\, how those experiences impact students and adults\, and what we can do to change home\, school and work environments.</strong><br />\n<br />\n<u><strong>Dr. Blodgett is a leading researcher on trauma informed practices and is a presenter at a national level.</strong></u>
LOCATION:GPHS Performing Arts Center
UID:e.1818.16880
SEQUENCE:3
DTSTAMP:20260426T013803Z
URL:https://business.grantspasschamber.org/events/details/from-aces-to-action-presented-at-performing-arts-center-04-12-2016-16880
END:VEVENT

END:VCALENDAR
