BEGIN:VCALENDAR
VERSION:2.0
PRODID:-//ChamberMaster//Event Calendar 2.0//EN
METHOD:PUBLISH
X-PUBLISHED-TTL:P3D
REFRESH-INTERVAL:P3D
CALSCALE:GREGORIAN
BEGIN:VEVENT
DTSTART:20171205T020000Z
DTEND:20171205T050000Z
X-MICROSOFT-CDO-ALLDAYEVENT:FALSE
SUMMARY:Fruitdale Grange Celebrates ~ 150th National Grange Birthday Party
DESCRIPTION:Come help us celebrate the 150th birthday of the Grange! \n\n\n\nCake\, fellowship\, live music by the Prairie Dogs and dancing!
X-ALT-DESC;FMTTYPE=text/html:<br />\n<strong><font face="Tahoma">Come help us celebrate the 150th birthday of the Grange!&nbsp\;<br />\n<br />\nCake\, fellowship\, live music by the Prairie Dogs and dancing!</font></strong><br />\n<br />\n&nbsp\;
LOCATION:FRUITDALE GRANGE #379 1440 Parkdale Drive Grants Pass Oregon
UID:e.1818.24868
SEQUENCE:3
DTSTAMP:20260424T163931Z
URL:https://business.grantspasschamber.org/events/details/fruitdale-grange-celebrates-150th-national-grange-birthday-party-24868
END:VEVENT

END:VCALENDAR
