BEGIN:VCALENDAR
VERSION:2.0
PRODID:-//ChamberMaster//Event Calendar 2.0//EN
METHOD:PUBLISH
X-PUBLISHED-TTL:P3D
REFRESH-INTERVAL:P3D
CALSCALE:GREGORIAN
BEGIN:VEVENT
DTSTART:20180603T000000Z
DTEND:20180603T050000Z
X-MICROSOFT-CDO-ALLDAYEVENT:FALSE
SUMMARY:Fur Ball - 9th Annual
DESCRIPTION:A fun filled evening of Live music\, great dinner silent\, live auction.\n\n\n\nAll to benefit the animals at the Rogue Valley Humane Society and in the community.
X-ALT-DESC;FMTTYPE=text/html:<strong>A fun filled evening of Live music\, great dinner silent\, live auction.<br />\n<br />\nAll to benefit the animals at the Rogue Valley Humane Society and in the community.</strong>
LOCATION:Taprock Northwest Grill Grants Pass\, OR 97527
UID:e.1818.28777
SEQUENCE:3
DTSTAMP:20260424T012226Z
URL:https://business.grantspasschamber.org/events/details/fur-ball-9th-annual-28777
END:VEVENT

END:VCALENDAR
