BEGIN:VCALENDAR
VERSION:2.0
PRODID:-//ChamberMaster//Event Calendar 2.0//EN
METHOD:PUBLISH
X-PUBLISHED-TTL:P3D
REFRESH-INTERVAL:P3D
CALSCALE:GREGORIAN
BEGIN:VEVENT
DTSTART:20160723T170000Z
DTEND:20160723T210000Z
X-MICROSOFT-CDO-ALLDAYEVENT:FALSE
SUMMARY:Garden Party ~ The Garden Mural
DESCRIPTION:The Garden Party is to introduce the Artists creating The Garden Mural at 4th & G\, in Historic Downtown Grants Pass. Music\, food\, dancing\, giveaways\, chalk art and painting activities for kids of all ages.\n\n\n\nFREE Bubbles! Bring cans of food for The Food Bank. See the mural in progress and be part of the garden by donating whatever you can.
X-ALT-DESC;FMTTYPE=text/html:<strong>The Garden Party is to introduce the Artists creating The Garden Mural at 4th &amp\; G\, in Historic Downtown Grants Pass. Music\, food\, dancing\, giveaways\, chalk art and painting activities for kids of all ages.<br />\n<br />\nFREE Bubbles! Bring cans of food for The Food Bank. See the mural in progress and be part of the garden by donating whatever you can.</strong>
LOCATION:Firehouse Gallery/RCC parking lot at the corner of 4th and g Streets.
UID:e.1818.17666
SEQUENCE:3
DTSTAMP:20260425T210353Z
URL:https://business.grantspasschamber.org/events/details/garden-party-the-garden-mural-07-23-2016-17666
END:VEVENT

END:VCALENDAR
