BEGIN:VCALENDAR
VERSION:2.0
PRODID:-//ChamberMaster//Event Calendar 2.0//EN
METHOD:PUBLISH
X-PUBLISHED-TTL:P3D
REFRESH-INTERVAL:P3D
CALSCALE:GREGORIAN
BEGIN:VEVENT
DTSTART:20160809T000000Z
DTEND:20160809T020000Z
X-MICROSOFT-CDO-ALLDAYEVENT:FALSE
SUMMARY:GARDEN TO TABLE
DESCRIPTION:Each recipe presented will highlight a variety of new ways to use up those vegetables from your garden that are growing abundantly.\n\n\n\nFREE COOKING CLASS! Class includes recipes as well as samples of each item prepared.\n\n\n\nClasses will be held in the Demonstration Kitchen on the 4th Floor of the Asante Center for Outpatient Health located at 537 SW Union Avenue in Grants Pass.\n\n\n\nSpace is limited\, reservations are required. Please call and reserve your seat at 541-471-4208.
X-ALT-DESC;FMTTYPE=text/html:<strong>Each recipe presented will highlight a variety of new ways to use up those vegetables from your garden that are growing abundantly.<br />\n<br />\nFREE COOKING CLASS! Class includes recipes as well as samples of each item prepared.<br />\n<br />\nClasses will be held in the Demonstration Kitchen on the 4th Floor of the Asante Center for Outpatient Health located at 537 SW Union Avenue in Grants Pass.<br />\n<br />\nSpace is limited\, reservations are required. Please call and reserve your seat at 541-471-4208.</strong>
LOCATION:Asante Center for Outpatient Health 537 SW Union Ave Grants Pass\, OR 97527 Demonstration Kitchen\, Fourth Floor Straight ahead off the elevator
UID:e.1818.17628
SEQUENCE:3
DTSTAMP:20260425T192157Z
URL:https://business.grantspasschamber.org/events/details/garden-to-table-08-08-2016-17628
END:VEVENT

END:VCALENDAR
