BEGIN:VCALENDAR
VERSION:2.0
PRODID:-//ChamberMaster//Event Calendar 2.0//EN
METHOD:PUBLISH
X-PUBLISHED-TTL:P3D
REFRESH-INTERVAL:P3D
CALSCALE:GREGORIAN
BEGIN:VEVENT
DTSTART;VALUE=DATE:20160422
DTEND;VALUE=DATE:20160425
TRANSP:TRANSPARENT
X-MICROSOFT-CDO-ALLDAYEVENT:TRUE
SUMMARY:Gem & Mineral Show
DESCRIPTION:Dealers - Silent Auction- Door Prizes - Exhibits - Demonstrations - Raffle - Kids Game - Food\n\nRogue Gem and Geology Clubs 31st Annual Show
X-ALT-DESC;FMTTYPE=text/html:<strong>Dealers - Silent Auction- Door Prizes - Exhibits - Demonstrations - Raffle - Kids Game - Food<br />\nRogue Gem and Geology Clubs 31st Annual Show</strong>
LOCATION:Jo Co Fairgrounds Pavillion Grants Pass
UID:e.1818.14424
SEQUENCE:3
DTSTAMP:20260426T013413Z
URL:https://business.grantspasschamber.org/events/details/gem-mineral-show-04-22-2016-14424
END:VEVENT

END:VCALENDAR
