BEGIN:VCALENDAR
VERSION:2.0
PRODID:-//ChamberMaster//Event Calendar 2.0//EN
METHOD:PUBLISH
X-PUBLISHED-TTL:P3D
REFRESH-INTERVAL:P3D
CALSCALE:GREGORIAN
BEGIN:VEVENT
DTSTART:20231021T153000Z
DTEND:20231021T191500Z
X-MICROSOFT-CDO-ALLDAYEVENT:FALSE
SUMMARY:Genealogy Seminar
DESCRIPTION:The Grants Pass Community Family History Seminar is a day of FREE workshops sponsored by the Grants Pass FamilySearch Center and the Grants Pass Genealogical Society. The seminar will be held on Saturday\, October 21\, 2023 in the building of The Church of Jesus Christ of Latter-day Saints at 1969 Williams Highway (corner of Williams Highway & West Harbeck Road)\, Grants Pass\, Oregon.\n\n\n\nLate registration and sign-in will begin at 8:30 am. Our opening remarks will begin at 8:45 am\, and classes will begin at 9:00 am. There will be three one-hour workshop periods with nine workshops total to choose from. A drawing for a door prize will beheld at 12:00 pm\, and you must be present to win.\n\nTheme for 2023:\n\n"Fantastic Ancestors and Where to Find Them"
X-ALT-DESC;FMTTYPE=text/html:<div class="paragraph" style="overflow-wrap: break-word\; margin: 0px\; padding: 0.5em 0px\; font-family: Tahoma\; line-height: 1.5\; color: rgb(64\, 59\, 52)\; font-size: 13px\; background-color: rgb(243\, 233\, 200)\; text-align: justify\;"><span style="font-size:20px\;"><font color="#333300">The&nbsp\;</font><strong><font color="#333300">Grants Pass Community Family History Seminar</font></strong><font color="#333300">&nbsp\;is a day of FREE workshops sponsored by the Grants Pass FamilySearch Center and the Grants Pass Genealogical Society. The seminar will be held on Saturday\, October 21\, 2023 in the building of The Church of Jesus Christ of Latter-day Saints at 1969 Williams Highway (corner of Williams Highway &amp\; West Harbeck Road)\, Grants Pass\, Oregon.</font><br />\n<br />\n<font color="#333300">Late registration and sign-in will begin at 8:30 am. Our opening remarks will begin at 8:45 am\, and classes will begin at 9:00 am. There will be three one-hour workshop periods with nine workshops total to choose from. A drawing for a door prize will beheld at 12:00 pm\, and you must be present to win.</font></span></div>\n\n<div class="paragraph" style="overflow-wrap: break-word\; margin: 0px\; padding: 0.5em 0px\; font-family: Tahoma\; line-height: 1.5\; color: rgb(64\, 59\, 52)\; font-size: 13px\; background-color: rgb(243\, 233\, 200)\; text-align: center\;"><strong><font color="#e9a476" size="4">Theme for 2023:</font><br />\n<em style="position: relative\;"><font size="4">&quot\;Fantastic Ancestors and Where to Find Them&quot\;</font></em></strong></div>\n
LOCATION:The Church of Jesus Christ of Latter Day Saints 1969 Williams Hwy Grants Pass\, OR 97527
UID:e.1818.45165
SEQUENCE:3
DTSTAMP:20260419T143048Z
URL:https://business.grantspasschamber.org/events/details/genealogy-seminar-45165
END:VEVENT

END:VCALENDAR
