BEGIN:VCALENDAR
VERSION:2.0
PRODID:-//ChamberMaster//Event Calendar 2.0//EN
METHOD:PUBLISH
X-PUBLISHED-TTL:P3D
REFRESH-INTERVAL:P3D
CALSCALE:GREGORIAN
BEGIN:VEVENT
DTSTART:20161015T230000Z
DTEND:20161016T010000Z
X-MICROSOFT-CDO-ALLDAYEVENT:FALSE
SUMMARY:GERMAN DINNER
DESCRIPTION:The American Legion Auxiliary\, Grants Pass Unit 28\, is presenting a German Style Dinner on Saturday\, October 15\, at the American Legion Post\, 206 NW F Street at 5th Street\, across from the Growers Market Parking Lot.\n\n\n\nServing from 4 to 6 p.m.\, the menu includes\; Cabbage Rolls\, or\, Brats with German Cabbage\, Green Beans\, and Dessert. $6.00 per person. Call 541-474-6400 for information. Proceeds benefit the Auxiliary Veterans Service Projects.
X-ALT-DESC;FMTTYPE=text/html:<strong>The American Legion Auxiliary\, Grants Pass Unit 28\, is presenting a German Style Dinner on Saturday\, October 15\, at the American Legion Post\, 206 NW F Street at 5th Street\, across from the Growers Market Parking Lot.<br />\n<br />\nServing from 4 to 6 p.m.\, the menu includes\; Cabbage Rolls\, or\, Brats with German </strong>Cabbage\, Green Beans\, and Dessert. $6.00 per person. Call 541-474-6400 for information. Proceeds benefit the Auxiliary Veterans Service Projects.
LOCATION:206 NW F ST\, GRANTS PASS
UID:e.1818.17861
SEQUENCE:3
DTSTAMP:20260425T162643Z
URL:https://business.grantspasschamber.org/events/details/german-dinner-17861
END:VEVENT

END:VCALENDAR
