BEGIN:VCALENDAR
VERSION:2.0
PRODID:-//ChamberMaster//Event Calendar 2.0//EN
METHOD:PUBLISH
X-PUBLISHED-TTL:P3D
REFRESH-INTERVAL:P3D
CALSCALE:GREGORIAN
BEGIN:VEVENT
DTSTART:20161105T010000Z
DTEND:20161105T060000Z
X-MICROSOFT-CDO-ALLDAYEVENT:FALSE
SUMMARY:girlfriends great escape
DESCRIPTION:A fun night of pampering for you ladies and your best girlfriends\, enjoy hairstyles\, makeovers\, massages\, crafting and much more... includes dinner\, wine & beer and a small breakfast before you leave!
X-ALT-DESC;FMTTYPE=text/html:<strong>A fun night of pampering for you ladies and your best girlfriends\, enjoy hairstyles\, makeovers\, massages\, crafting and much more... includes dinner\, wine &amp\; beer and a small breakfast before you leave!</strong>
LOCATION:Boys & Girls Club - Grants Pass 203 SE 9th St. Grants Pass
UID:e.1818.17897
SEQUENCE:3
DTSTAMP:20260425T143708Z
URL:https://business.grantspasschamber.org/events/details/girlfriends-great-escape-17897
END:VEVENT

END:VCALENDAR
