BEGIN:VCALENDAR
VERSION:2.0
PRODID:-//ChamberMaster//Event Calendar 2.0//EN
METHOD:PUBLISH
X-PUBLISHED-TTL:P3D
REFRESH-INTERVAL:P3D
CALSCALE:GREGORIAN
BEGIN:VEVENT
DTSTART:20180224T163000Z
DTEND:20180224T230000Z
X-MICROSOFT-CDO-ALLDAYEVENT:FALSE
SUMMARY:Girls Rock!
DESCRIPTION:A FREE day of fun-filled\, hands-on workshops related to Science\, Technology\, Engineering\, and Math. For girls ages 9-13\; must attend with an adult.
X-ALT-DESC;FMTTYPE=text/html:A FREE day of fun-filled\, hands-on workshops related to Science\, Technology\, Engineering\, and Math. For girls ages 9-13\; must attend with an adult.
LOCATION:Grants Pass High School
UID:e.1818.25059
SEQUENCE:3
DTSTAMP:20260424T090655Z
URL:https://business.grantspasschamber.org/events/details/girls-rock-25059
END:VEVENT

END:VCALENDAR
