BEGIN:VCALENDAR
VERSION:2.0
PRODID:-//ChamberMaster//Event Calendar 2.0//EN
METHOD:PUBLISH
X-PUBLISHED-TTL:P3D
REFRESH-INTERVAL:P3D
CALSCALE:GREGORIAN
BEGIN:VEVENT
DTSTART;VALUE=DATE:20160611
DTEND;VALUE=DATE:20160612
TRANSP:TRANSPARENT
X-MICROSOFT-CDO-ALLDAYEVENT:TRUE
SUMMARY:Global Wellness Day
DESCRIPTION:Global Wellness Day is a day to honor the universal importance of living well.\n\n\n\nGWD focuses on bringing awareness to the role Wellness plays in bringing happiness and health to each day of our lives.\n\n\n\nIt strives to be the inspiring beginning for millions of people seeking a change in their happiness and wellness journeys. A change that begins within each of us and grows to all of us.\n\n\n\nCome find out more and celebrate with us throughout the Grants Pass Community!
X-ALT-DESC;FMTTYPE=text/html:<strong><u><em>Global Wellness Day </em></u>is a day to honor the universal importance of living well.<br />\n<br />\nGWD focuses on bringing awareness to the role Wellness plays in bringing happiness and health to each day of our lives.<br />\n<br />\nIt strives to be the inspiring beginning for millions of people seeking a change in their happiness and wellness journeys. A change that begins within each of us and grows to all of us.<br />\n<br />\nCome find out more and celebrate with us throughout the Grants Pass Community!</strong>
LOCATION:Growers Market\; Kids Dash\; Club Northwest
UID:e.1818.17441
SEQUENCE:3
DTSTAMP:20260425T223751Z
URL:https://business.grantspasschamber.org/events/details/global-wellness-day-06-11-2016-17441
END:VEVENT

END:VCALENDAR
