BEGIN:VCALENDAR
VERSION:2.0
PRODID:-//ChamberMaster//Event Calendar 2.0//EN
METHOD:PUBLISH
X-PUBLISHED-TTL:P3D
REFRESH-INTERVAL:P3D
CALSCALE:GREGORIAN
BEGIN:VEVENT
DTSTART:20160814T173000Z
DTEND:20160822T023000Z
X-MICROSOFT-CDO-ALLDAYEVENT:FALSE
SUMMARY:GOSPEL MEETING ~ Church of Christ
DESCRIPTION:GOSPEL MEETING WITH CRAIG KEEL & SHAWN McCORKLE\n\n\n\nGOSPEL PREACHERS FROM TEXAS
X-ALT-DESC;FMTTYPE=text/html:<strong><u>GOSPEL MEETING</u> WITH CRAIG KEEL &amp\; SHAWN McCORKLE<br />\n<br />\nGOSPEL PREACHERS FROM TEXAS</strong>
LOCATION:CHURCH OF CHRIST 5180 REDWOOD AVE GRANTS PASS\, OR 97527
UID:e.1818.17701
SEQUENCE:3
DTSTAMP:20260425T192822Z
URL:https://business.grantspasschamber.org/events/details/gospel-meeting-church-of-christ-08-14-2016-17701
END:VEVENT

END:VCALENDAR
