BEGIN:VCALENDAR
VERSION:2.0
PRODID:-//ChamberMaster//Event Calendar 2.0//EN
METHOD:PUBLISH
X-PUBLISHED-TTL:P3D
REFRESH-INTERVAL:P3D
CALSCALE:GREGORIAN
BEGIN:VEVENT
DTSTART:20180414T003000Z
DTEND:20180414T040000Z
X-MICROSOFT-CDO-ALLDAYEVENT:FALSE
SUMMARY:Gospel Rescue Mission Banquet
DESCRIPTION:Your invited\, to our Gospel Rescue Mission Banquet.Enjoy some great food\, fellowship.\n\n\n\nLearn how the mission is being used to change peoples hearts\, and lives in our community. See how you can get involved by volunteering of your time\, and talents.\n\n\n\nThis will be an informative\, and exciting evening. We look forward to seeing you there. If you have any questions\, please call Connie Quigley at (541)659-2230.
X-ALT-DESC;FMTTYPE=text/html:<strong><span style="font-size:18px\;">Your invited\, to our Gospel Rescue Mission Banquet.Enjoy some great food\, fellowship.</span><br />\n<br />\nLearn how the mission is being used to change peoples hearts\, and lives in our community. See how you can get involved by volunteering of your time\, and talents.<br />\n<br />\nThis will be an informative\, and exciting evening. We look forward to seeing you there. If you have any questions\, please call Connie Quigley at (541)659-2230.</strong>
LOCATION:Parkway Christian Hull Center on the corner of Parkway and Beacon Dr
UID:e.1818.25376
SEQUENCE:3
DTSTAMP:20260424T050957Z
URL:https://business.grantspasschamber.org/events/details/gospel-rescue-mission-banquet-25376
END:VEVENT

END:VCALENDAR
