BEGIN:VCALENDAR
VERSION:2.0
PRODID:-//ChamberMaster//Event Calendar 2.0//EN
METHOD:PUBLISH
X-PUBLISHED-TTL:P3D
REFRESH-INTERVAL:P3D
CALSCALE:GREGORIAN
BEGIN:VEVENT
DTSTART:20260705T200000Z
DTEND:20260705T230000Z
X-MICROSOFT-CDO-ALLDAYEVENT:FALSE
SUMMARY:GP Downs Horse Racing Summer 2026
DESCRIPTION:SUMMER Racing 2026\n\nHosting pari-mutuel racing since 1968\, Grants Pass Downs ("The Don Jackson Racing Facility") is located at the Josephine County Fairgrounds. Inspired by the passion and generosity of local horse racing legend\, Don Jackson\, the Grants Pass Downs family is dedicated to the growth of horse racing in our region.\n\n \n\nJune 20\, 21\, 27\, 28\n\nJuly 3\, 4\, 5\n\n \n\n1:00 PM Post Time\n\n5:00 PM Post Time on July 3\n\n\n\n \n\n\nAdmission\n\n \n\n \n\n\n\nAdults $5.00\n\nKids 12 and Under are Free\n\nFree Parking\n\n \n\nCoolers & Lawn Chairs are Allowed\n\n(No Outside Alcohol)\n\n \n\nConcessions:\n\nCasa Amiga\, Burgers\, Fries & Good Times\,\n\nBear Kountry Kettle Korn\, Ubhill Bar\, \n\nThe Clucking Cow
X-ALT-DESC;FMTTYPE=text/html:<div class="x-el x-el-div c1-1 c1-2 c1-4 c1-s c1-98 c1-b c1-c c1-2q c1-d c1-o c1-e c1-f c1-g" data-ux="Block" style="box-sizing: inherit\; width: 338.656px\; font-family: Lusitana\, Georgia\, serif\; font-size: 16px\; position: relative\; max-width: 100%\; margin-bottom: 24px\; text-align: center\; background-color: rgb(255\, 255\, 255)\;">\n<div class="x-el x-el-div c1-1 c1-2 c1-4 c1-s c1-9d c1-b c1-c c1-2o c1-d c1-o c1-e c1-f c1-g" data-ux="Block" style="box-sizing: inherit\; width: 338.656px\; font-family: Lusitana\, Georgia\, serif\; font-size: 16px\; position: relative\; max-width: 100%\; margin-bottom: 24px\; text-align: center\; background-color: rgb(255\, 255\, 255)\;">\n<h4 aria-level="4" class="x-el x-el-h4 c1-1 c1-2 c1-1p c1-1e c1-7w c1-14 c1-12 c1-11 c1-13 c1-7u c1-52 c1-b c1-2z c1-65 c1-42 c1-9e c1-69 c1-9f c1-6b c1-6c c1-6d" data-aid="ABOUT_HEADLINE_RENDERED1" data-typography="HeadingDelta" data-ux="ContentCardHeading" role="heading" style="box-sizing: inherit\; margin: 0px\; overflow-wrap: break-word\; color: rgb(27\, 27\, 27)\; font-weight: 400\; top: 0px\; font-size: 22px\; width: inherit\; line-height: 1.25\; position: absolute\;">&nbsp\;</h4>\n\n<h4 aria-level="4" class="x-el x-el-h4 c1-1 c1-2 c1-1p c1-1e c1-7w c1-14 c1-12 c1-11 c1-5x c1-3w c1-4i c1-7u c1-52 c1-b c1-2z c1-65 c1-42 c1-69 c1-9g c1-6b c1-6c c1-6d" data-typography="HeadingDelta" data-ux="ContentCardHeading" role="heading" style="box-sizing: inherit\; margin: 0px\; overflow-wrap: break-word\; color: rgb(27\, 27\, 27)\; visibility: hidden\; font-weight: 400\; position: relative\; top: 0px\; font-size: 22px\; width: inherit\; line-height: 1.25\;">&nbsp\;</h4>\n\n<h4 aria-level="4" class="x-el x-el-h4 c1-1 c1-2 c1-1p c1-1e c1-7w c1-14 c1-12 c1-11 c1-5x c1-3w c1-4i c1-7u c1-52 c1-b c1-2z c1-65 c1-42 c1-9h c1-69 c1-6b c1-6c c1-6d" data-typography="HeadingDelta" data-ux="ContentCardHeading" role="heading" style="box-sizing: inherit\; margin: 0px\; overflow-wrap: break-word\; color: rgb(27\, 27\, 27)\; visibility: hidden\; font-weight: 400\; position: absolute\; top: 0px\; font-size: 22px\; width: inherit\; line-height: 1.25\;">&nbsp\;</h4>\n</div>\n\n<div class="x-el c1-1 c1-2 c1-1p c1-1e c1-4z c1-11 c1-13 c1-9i c1-9j c1-9k c1-9l c1-9m c1-9n c1-9o c1-9p c1-9q c1-9r c1-9s c1-9t c1-9u c1-9v c1-9w c1-9x c1-9y c1-9z c1-a0 c1-a1 c1-a2 c1-a3 c1-a4 c1-a5 c1-a6 c1-a7 c1-a8 c1-a9 c1-aa c1-ab c1-ac c1-ad c1-ae c1-4 c1-6g c1-b c1-3r c1-c c1-42 c1-d c1-e c1-f c1-g x-rt" data-aid="ABOUT_DESCRIPTION_RENDERED1" data-typography="BodyAlpha" data-ux="ContentCardText" style="box-sizing: inherit\; width: 338.656px\; font-family: Lusitana\, Georgia\, serif\; font-size: 16px\; margin-top: 0px\; margin-bottom: 24px\; overflow-wrap: break-word\; color: rgb(94\, 94\, 94)\; line-height: 1.5\; flex-grow: 1\; max-width: 100%\; text-wrap: pretty\; text-align: center\; background-color: rgb(255\, 255\, 255)\;">\n<p style="box-sizing: inherit\; margin: 0px\;"><span style="font-size:20px\;"><span style="box-sizing: inherit\;"><span class="x-el x-el-span c1-1m c1-1n c1-b c1-af c1-31 c1-66 c1-ag" style="box-sizing: inherit\; letter-spacing: inherit\; text-transform: inherit\; color: inherit\; font-weight: 700\; line-height: inherit\;">SUMMER Racing 2026</span></span></span></p>\n\n<p style="box-sizing: inherit\; margin: 0px\;"><span style="font-size:20px\;"><span style="color: rgb(94\, 94\, 94)\; font-family: Lusitana\, Georgia\, serif\; text-align: center\; background-color: rgb(255\, 255\, 255)\;">Hosting pari-mutuel racing since 1968\, Grants Pass Downs (&quot\;The Don Jackson Racing Facility&quot\;) is located at the Josephine County Fairgrounds. Inspired by the passion and generosity of local horse racing legend\, Don Jackson\, the Grants Pass Downs family is dedicated to the growth of horse racing in our region.</span></span></p>\n\n<p style="box-sizing: inherit\; margin: 0px\;">&nbsp\;</p>\n\n<p style="box-sizing: inherit\; margin: 0px\;"><span style="font-size:20px\;"><span style="box-sizing: inherit\;"><span class="x-el x-el-span c1-1m c1-1n c1-b c1-af c1-31 c1-66 c1-ag" style="box-sizing: inherit\; letter-spacing: inherit\; text-transform: inherit\; color: inherit\; font-weight: 700\; line-height: inherit\;">June 20\, 21\, 27\, 28</span></span></span></p>\n\n<p style="box-sizing: inherit\; margin: 0px\;"><span style="font-size:20px\;"><span style="box-sizing: inherit\;"><span class="x-el x-el-span c1-1m c1-1n c1-b c1-af c1-31 c1-66 c1-ag" style="box-sizing: inherit\; letter-spacing: inherit\; text-transform: inherit\; color: inherit\; font-weight: 700\; line-height: inherit\;">July 3\, 4\, 5</span></span></span></p>\n\n<p style="box-sizing: inherit\; margin: 0px\;">&nbsp\;</p>\n\n<p style="box-sizing: inherit\; margin: 0px\;"><span style="font-size:20px\;"><span style="box-sizing: inherit\;"><span class="x-el x-el-span c1-1m c1-1n c1-b c1-af c1-31 c1-66 c1-ag" style="box-sizing: inherit\; letter-spacing: inherit\; text-transform: inherit\; color: inherit\; font-weight: 700\; line-height: inherit\;">1:00 PM Post Time</span></span></span></p>\n\n<p style="box-sizing: inherit\; margin: 0px\;"><span style="font-size:20px\;"><span style="box-sizing: inherit\;"><span class="x-el x-el-span c1-1m c1-1n c1-b c1-af c1-31 c1-66 c1-ag" style="box-sizing: inherit\; letter-spacing: inherit\; text-transform: inherit\; color: inherit\; font-weight: 700\; line-height: inherit\;">5:00 PM Post Time on July 3</span></span></span><br />\n<br />\n&nbsp\;</p>\n\n<div class="x-el x-el-div c1-1 c1-2 c1-4 c1-s c1-9d c1-b c1-c c1-2o c1-d c1-o c1-e c1-f c1-g" data-ux="Block" style="box-sizing: inherit\; width: 338.656px\; font-family: Lusitana\, Georgia\, serif\; font-size: 16px\; position: relative\; max-width: 100%\; margin-bottom: 24px\; text-align: center\; background-color: rgb(255\, 255\, 255)\;">\n<h4 aria-level="4" class="x-el x-el-h4 c1-1 c1-2 c1-1p c1-1e c1-7w c1-14 c1-12 c1-11 c1-13 c1-7u c1-52 c1-b c1-2z c1-65 c1-42 c1-9e c1-69 c1-9f c1-6b c1-6c c1-6d" data-aid="ABOUT_HEADLINE_RENDERED2" data-typography="HeadingDelta" data-ux="ContentCardHeading" role="heading" style="box-sizing: inherit\; margin: 0px\; overflow-wrap: break-word\; color: rgb(27\, 27\, 27)\; font-weight: 400\; top: 0px\; font-size: 22px\; width: inherit\; line-height: 1.25\; position: absolute\;">Admission</h4>\n\n<h4 aria-level="4" class="x-el x-el-h4 c1-1 c1-2 c1-1p c1-1e c1-7w c1-14 c1-12 c1-11 c1-5x c1-3w c1-4i c1-7u c1-52 c1-b c1-2z c1-65 c1-42 c1-69 c1-9g c1-6b c1-6c c1-6d" data-typography="HeadingDelta" data-ux="ContentCardHeading" role="heading" style="box-sizing: inherit\; margin: 0px\; overflow-wrap: break-word\; color: rgb(27\, 27\, 27)\; visibility: hidden\; font-weight: 400\; position: relative\; top: 0px\; font-size: 22px\; width: inherit\; line-height: 1.25\;">&nbsp\;</h4>\n\n<h4 aria-level="4" class="x-el x-el-h4 c1-1 c1-2 c1-1p c1-1e c1-7w c1-14 c1-12 c1-11 c1-5x c1-3w c1-4i c1-7u c1-52 c1-b c1-2z c1-65 c1-42 c1-9h c1-69 c1-6b c1-6c c1-6d" data-typography="HeadingDelta" data-ux="ContentCardHeading" role="heading" style="box-sizing: inherit\; margin: 0px\; overflow-wrap: break-word\; color: rgb(27\, 27\, 27)\; visibility: hidden\; font-weight: 400\; position: absolute\; top: 0px\; font-size: 22px\; width: inherit\; line-height: 1.25\;">&nbsp\;</h4>\n</div>\n\n<div class="x-el c1-1 c1-2 c1-1p c1-1e c1-4z c1-11 c1-13 c1-9i c1-9j c1-9k c1-9l c1-9m c1-9n c1-9o c1-9p c1-9q c1-9r c1-9s c1-9t c1-9u c1-9v c1-9w c1-9x c1-9y c1-9z c1-a0 c1-a1 c1-a2 c1-a3 c1-a4 c1-a5 c1-a6 c1-a7 c1-a8 c1-a9 c1-aa c1-ab c1-ac c1-ad c1-ae c1-4 c1-6g c1-b c1-3r c1-c c1-42 c1-d c1-e c1-f c1-g x-rt" data-aid="ABOUT_DESCRIPTION_RENDERED2" data-typography="BodyAlpha" data-ux="ContentCardText" style="box-sizing: inherit\; width: 338.656px\; font-family: Lusitana\, Georgia\, serif\; font-size: 16px\; margin-top: 0px\; margin-bottom: 24px\; overflow-wrap: break-word\; color: rgb(94\, 94\, 94)\; line-height: 1.5\; flex-grow: 1\; max-width: 100%\; text-wrap: pretty\; text-align: center\; background-color: rgb(255\, 255\, 255)\;">\n<p style="box-sizing: inherit\; margin: 0px\;"><span style="font-size:20px\;"><span style="box-sizing: inherit\;">Adults $5.00</span></span></p>\n\n<p style="box-sizing: inherit\; margin: 0px\;"><span style="font-size:20px\;"><span style="box-sizing: inherit\;">Kids 12 and Under are Free</span></span></p>\n\n<p style="box-sizing: inherit\; margin: 0px\;"><span style="font-size:20px\;"><span style="box-sizing: inherit\;">Free Parking</span></span></p>\n\n<p style="box-sizing: inherit\; margin: 0px\;">&nbsp\;</p>\n\n<p style="box-sizing: inherit\; margin: 0px\;"><span style="font-size:20px\;"><span style="box-sizing: inherit\;">Coolers &amp\; Lawn Chairs are Allowed</span></span></p>\n\n<p style="box-sizing: inherit\; margin: 0px\;"><span style="font-size:20px\;"><span style="box-sizing: inherit\;">(No Outside Alcohol)</span></span></p>\n\n<p style="box-sizing: inherit\; margin: 0px\;">&nbsp\;</p>\n\n<p style="box-sizing: inherit\; margin: 0px\;"><span style="font-size:20px\;"><span style="box-sizing: inherit\;"><span class="x-el x-el-span c1-1m c1-1n c1-b c1-af c1-31 c1-66 c1-ag" style="box-sizing: inherit\; letter-spacing: inherit\; text-transform: inherit\; color: inherit\; font-weight: 700\; line-height: inherit\;">Concessions:</span></span></span></p>\n\n<p style="box-sizing: inherit\; margin: 0px\;"><span style="font-size:20px\;"><span style="box-sizing: inherit\;"><span class="x-el x-el-span c1-1m c1-1n c1-b c1-af c1-31 c1-66 c1-ag" style="box-sizing: inherit\; letter-spacing: inherit\; text-transform: inherit\; color: inherit\; font-weight: 700\; line-height: inherit\;">Casa Amiga\, Burgers\, Fries &amp\; Good Times\,</span></span></span></p>\n\n<p style="box-sizing: inherit\; margin: 0px\;"><span style="font-size:20px\;"><span style="box-sizing: inherit\;"><span class="x-el x-el-span c1-1m c1-1n c1-b c1-af c1-31 c1-66 c1-ag" style="box-sizing: inherit\; letter-spacing: inherit\; text-transform: inherit\; color: inherit\; font-weight: 700\; line-height: inherit\;">Bear Kountry Kettle Korn\, Ubhill Bar\,&nbsp\;</span></span></span></p>\n\n<p style="box-sizing: inherit\; margin: 0px\;"><span style="font-size:20px\;"><span style="box-sizing: inherit\;"><span class="x-el x-el-span c1-1m c1-1n c1-b c1-af c1-31 c1-66 c1-ag" style="box-sizing: inherit\; letter-spacing: inherit\; text-transform: inherit\; color: inherit\; font-weight: 700\; line-height: inherit\;">The Clucking Cow</span></span></span></p>\n</div>\n</div>\n</div>\n
LOCATION:GRANTS PASS DOWNS Josephine County Fairgrounds
UID:e.1818.59592
SEQUENCE:3
DTSTAMP:20260421T113053Z
URL:https://business.grantspasschamber.org/events/details/gp-downs-horse-racing-summer-2025-07-05-2026-59592
END:VEVENT

END:VCALENDAR
