BEGIN:VCALENDAR
VERSION:2.0
PRODID:-//ChamberMaster//Event Calendar 2.0//EN
METHOD:PUBLISH
X-PUBLISHED-TTL:P3D
REFRESH-INTERVAL:P3D
CALSCALE:GREGORIAN
BEGIN:VEVENT
DTSTART;VALUE=DATE:20160525
DTEND;VALUE=DATE:20160526
TRANSP:TRANSPARENT
X-MICROSOFT-CDO-ALLDAYEVENT:TRUE
SUMMARY:GPHS Mock Interviews Workshop
DESCRIPTION:This is the last mock interview for the 2nd semester Career Academy students.\n\n\n\nMorning Session:  8:45am - 12:15pm\n\nBreak:  9:47am - 10:05am\n\nAfternoon Session:  1:00pm - 3:15pm\n\n\n\nPlease contact John Young\, Teacher/Coordinator Career Development to participate with you or someone in your business @ (541) 474-5744 or Email at:  jyoung@grantspass.k12.or.us
X-ALT-DESC;FMTTYPE=text/html:<u><em><strong>This is the last mock interview for the 2nd semester Career Academy students.</strong></em></u><br />\n<br />\n<strong>Morning Session:&nbsp\; 8:45am - 12:15pm<br />\nBreak:&nbsp\; 9:47am - 10:05am<br />\nAfternoon Session:&nbsp\; 1:00pm - 3:15pm<br />\n<br />\nPlease contact John Young\, Teacher/Coordinator Career Development to participate with you or someone in your business @ (541) 474-5744 or Email at:&nbsp\; jyoung@grantspass.k12.or.us</strong>
LOCATION:GPHS
UID:e.1818.17469
SEQUENCE:3
DTSTAMP:20260425T235802Z
URL:https://business.grantspasschamber.org/events/details/gphs-mock-interviews-workshop-05-25-2016-17469
END:VEVENT

END:VCALENDAR
