BEGIN:VCALENDAR
VERSION:2.0
PRODID:-//ChamberMaster//Event Calendar 2.0//EN
METHOD:PUBLISH
X-PUBLISHED-TTL:P3D
REFRESH-INTERVAL:P3D
CALSCALE:GREGORIAN
BEGIN:VEVENT
DTSTART:20211016T150000Z
DTEND:20211016T210000Z
X-MICROSOFT-CDO-ALLDAYEVENT:FALSE
SUMMARY:Grants Pass Airport Day - POSTPONED UNTIL 6/25/2022
DESCRIPTION:Due to forecasted weather conditions the Airports Department has made the tough decision to postpone the GP Airport Day 2021 on Oct. 16 until June 25\, 2022. \n\n\n\nWe want everyone to have an amazing time at Airport Day\, and with the current forecasted conditions\, we were not able to give you that experience. \n\n\n\nPlanning for June 25\, 2022 has already begun with some incredible vendors and participants already confirming.  Please mark your calendars and we look forward to seeing you in 2022.\n\n\n\nGrants Pass Airport Day is free and open to the public.  Visitors will enjoy an up close and personal look at aviation and its place in our community. \n\n\n\nThere will be free shuttles to take visitors to and from designated parking areas.  Amazing food vendors will tempt you throughout the day. \n\n\n\nPilots with their aircraft will be on hand to answer questions and take photos.  There will be helicopters\, Med-Evac operations\, jets\, custom aircraft\, vintage aircraft and so much more.  Who knows what might stop by for a visit.....\n\n\n\nThere will be booths\, static displays\, a car show\, fly-bys\, chicken drop (don't worry they are rubber chickens) and much more.  It will be an exciting day full of surprises.
X-ALT-DESC;FMTTYPE=text/html:<span style="font-size:16px"><strong><span style="color:#FF0000">Due to forecasted weather conditions the Airports Department has made the tough decision to postpone the GP Airport Day 2021 on Oct. 16 until <u>June 25\, 2022</u>.&nbsp\;<br>\n<br>\nWe want everyone to have an amazing time at Airport Day\, and with the current forecasted conditions\, we were not able to give you that experience.&nbsp\;<br>\n<br>\nPlanning for June 25\, 2022 has already begun with some incredible vendors and participants already confirming.&nbsp\; Please mark your calendars and we look forward to seeing you in 2022.</span><br>\n<br>\nGrants Pass Airport Day is free and open to the public.&nbsp\;</strong> Visitors will enjoy an up close and personal look at aviation and its place in our community.&nbsp\;<br>\n<br>\nThere will be free shuttles to take visitors to and from designated parking areas.&nbsp\; Amazing food vendors will tempt you throughout the day.&nbsp\;<br>\n<br>\nPilots with their aircraft will be on hand to answer questions and take photos.&nbsp\; There will be helicopters\, Med-Evac operations\, jets\, custom aircraft\, vintage aircraft and so much more.&nbsp\; Who knows what might stop by for a visit.....<br>\n<br>\nThere will be booths\, static displays\, a car show\, fly-bys\, chicken drop (don't worry they are rubber chickens) and much more.&nbsp\; <strong>It will be an exciting day full of surprises.&nbsp\;</strong>&nbsp\;</span>
LOCATION:Grants Pass Airport 1441 Brookside Blvd. Grants Pass\, OR 97526
UID:e.1818.36579
SEQUENCE:3
DTSTAMP:20260421T074505Z
URL:https://business.grantspasschamber.org/events/details/grants-pass-airport-day-36579
END:VEVENT

END:VCALENDAR
