BEGIN:VCALENDAR
VERSION:2.0
PRODID:-//ChamberMaster//Event Calendar 2.0//EN
METHOD:PUBLISH
X-PUBLISHED-TTL:P3D
REFRESH-INTERVAL:P3D
CALSCALE:GREGORIAN
BEGIN:VEVENT
DTSTART:20160903T150000Z
DTEND:20160903T220000Z
X-MICROSOFT-CDO-ALLDAYEVENT:FALSE
SUMMARY:Grants Pass Airport Days ~ 4th Annual
DESCRIPTION:Classic Car Show and EAA Pancake Breakfast\n\n\n\nAn Open House with antique Vintage aircraft and home built aircraft\, aerobatic demonstrations\, helicopter rides\, a fly-in\, and other aerial surprises.\n\n\n\nFree Shuttles to display areas\n\n\n\nOn Site Food Concessions
X-ALT-DESC;FMTTYPE=text/html:<strong><u>Classic Car Show and EAA Pancake Breakfast</u><br />\n<br />\nAn Open House with antique Vintage aircraft and home built aircraft\, aerobatic demonstrations\, helicopter rides\, a fly-in\, and other aerial surprises.<br />\n<br />\nFree Shuttles to display areas<br />\n<br />\nOn Site Food Concessions</strong>
LOCATION:Grants Pass Airport 1441 Brookside Blvd Free Parking at National Guard Armory
UID:e.1818.15502
SEQUENCE:3
DTSTAMP:20260425T181726Z
URL:https://business.grantspasschamber.org/events/details/grants-pass-airport-days-4th-annual-09-03-2016-15502
END:VEVENT

END:VCALENDAR
