BEGIN:VCALENDAR
VERSION:2.0
PRODID:-//ChamberMaster//Event Calendar 2.0//EN
METHOD:PUBLISH
X-PUBLISHED-TTL:P3D
REFRESH-INTERVAL:P3D
CALSCALE:GREGORIAN
BEGIN:VEVENT
DTSTART:20160430T160000Z
DTEND:20160430T220000Z
X-MICROSOFT-CDO-ALLDAYEVENT:FALSE
SUMMARY:Grants Pass Garden Club Spring Plant Sale
DESCRIPTION:
X-ALT-DESC;FMTTYPE=text/html:
LOCATION:Abby's Parking Lot - Williams Highway
UID:e.1818.15240
SEQUENCE:3
DTSTAMP:20260426T013828Z
URL:https://business.grantspasschamber.org/events/details/grants-pass-garden-club-spring-plant-sale-04-30-2016-15240
END:VEVENT

END:VCALENDAR
