BEGIN:VCALENDAR
VERSION:2.0
PRODID:-//ChamberMaster//Event Calendar 2.0//EN
METHOD:PUBLISH
X-PUBLISHED-TTL:P3D
REFRESH-INTERVAL:P3D
CALSCALE:GREGORIAN
BEGIN:VEVENT
DTSTART:20160508T000000Z
DTEND:20160508T043000Z
X-MICROSOFT-CDO-ALLDAYEVENT:FALSE
SUMMARY:Grants Pass High School Jazz Fest
DESCRIPTION:Please come out for a fun evening while supporting the awesome high school band program by purchasing tickets to the annual GPHS Jazz Fest May 7!\n\n\n\nThis year there is an option for a delicious Italian Dinner beginning at 5 in the Commons\, large silent auction also kicks off in the PAC\, and the concert begins at 7 in the PAC with doors opening at 6 and pre-music beginning at 6:15.\n\n\n\nEnjoy our own GPHS Jazz Band\, local favorites Rogue Gold and Funktional Fusion\, and new this year OSU Jazz Band and Kemtone 4-tet! We'll even have dessert available to purchase during intermission.\n\n\n\nTickets are dinner and a show $25 adult/$20 senior or student\, show only $15 adult/$10 senior or student and can be purchased from any band student\, at the GPHS bookkeeper\, Oregon Books\, Great NW Music or Kelly Automotive. Thank you for supporting our awesome band students!
X-ALT-DESC;FMTTYPE=text/html:<strong>Please come out for a fun evening while supporting the awesome high school band program by purchasing tickets to the annual GPHS Jazz Fest May 7!<br />\n<br />\nThis year there is an option for a delicious Italian Dinner beginning at 5 in the Commons\, large silent auction also kicks off in the PAC\, and the concert begins at 7 in the PAC with doors opening at 6 and pre-music beginning at 6:15.<br />\n<br />\nEnjoy our own GPHS Jazz Band\, local favorites Rogue Gold and Funktional Fusion\, and new this year OSU Jazz Band and Kemtone 4-tet! We&#39\;ll even have dessert available to purchase during intermission.<br />\n<br />\nTickets are dinner and a show $25 adult/$20 senior or student\, show only $15 adult/$10 senior or student and <u>can be purchased from any band student\, at the GPHS bookkeeper\, Oregon Books\, Great NW Music or Kelly Automotive</u>. Thank you for supporting our awesome band students!</strong>
LOCATION:GPHS Commons and PAC
UID:e.1818.17458
SEQUENCE:3
DTSTAMP:20260426T000157Z
URL:https://business.grantspasschamber.org/events/details/grants-pass-high-school-jazz-fest-05-07-2016-17458
END:VEVENT

END:VCALENDAR
