BEGIN:VCALENDAR
VERSION:2.0
PRODID:-//ChamberMaster//Event Calendar 2.0//EN
METHOD:PUBLISH
X-PUBLISHED-TTL:P3D
REFRESH-INTERVAL:P3D
CALSCALE:GREGORIAN
BEGIN:VEVENT
DTSTART:20160311T003000Z
DTEND:20160312T053000Z
X-MICROSOFT-CDO-ALLDAYEVENT:FALSE
SUMMARY:Grants Pass Shrine Circus 2016
DESCRIPTION:"EARLY BIRDS DISCOUNT AVAILABLE NOW" With three rings of affordable family fun\, "The Shrine Circus" will thrill fans of all ages. Come see the death-defying aerial acts\, animal attractions including tigers and elephants. In addition to the performing acts\, kids will have the unique opportunity to ride and pet different types of animals. *** Acts are subject to change *** Grants Pass\, OR -Josephine County Fairgrounds Thursday\, March 10th * 4:30 & 7:30 PM Friday\, March 11th * 4:30 & 7:30 PM *-*-*Once online sales have finished\, you can only purchase tickets at the circus location. We open doors one hour before the event!!
X-ALT-DESC;FMTTYPE=text/html:<strong>&quot\;EARLY BIRDS DISCOUNT AVAILABLE NOW&quot\; With three rings of affordable family fun\, &quot\;The Shrine Circus&quot\; will thrill fans of all ages. Come see the death-defying aerial acts\, animal attractions including tigers and elephants. In addition to the performing acts\, kids will have the unique opportunity to ride and pet different types of animals. *** Acts are subject to change *** Grants Pass\, OR -Josephine County Fairgrounds Thursday\, March 10th * 4:30 &amp\; 7:30 PM Friday\, March 11th * 4:30 &amp\; 7:30 PM *-*-*Once online sales have finished\, you can only purchase tickets at the circus location. We open doors one hour before the event!!</strong>
LOCATION:Josephine County Fairgrounds 1451 Fairgrounds Road Grants Pass\, OR 97527
UID:e.1818.15582
SEQUENCE:3
DTSTAMP:20260426T030556Z
URL:https://business.grantspasschamber.org/events/details/grants-pass-shrine-circus-2016-03-10-2016-15582
END:VEVENT

END:VCALENDAR
