BEGIN:VCALENDAR
VERSION:2.0
PRODID:-//ChamberMaster//Event Calendar 2.0//EN
METHOD:PUBLISH
X-PUBLISHED-TTL:P3D
REFRESH-INTERVAL:P3D
CALSCALE:GREGORIAN
BEGIN:VEVENT
DTSTART:20160924T170000Z
DTEND:20160924T230000Z
X-MICROSOFT-CDO-ALLDAYEVENT:FALSE
SUMMARY:Grants Pass Suction Dredge Demonstration
DESCRIPTION:A mining celebration complete with free BBQ for all. Mining equipment on display\, lectures\, raffles and more.\n\n\n\nCome learn about the mining history of Josephine county.
X-ALT-DESC;FMTTYPE=text/html:<strong>A mining celebration complete with free BBQ for all. Mining equipment on display\, lectures\, raffles and more.<br />\n<br />\nCome learn about the mining history of Josephine county.</strong>
LOCATION:Josephine County Courthouse Front Lawn & steps with BBQ behind Anne Basker
UID:e.1818.17829
SEQUENCE:3
DTSTAMP:20260425T180651Z
URL:https://business.grantspasschamber.org/events/details/grants-pass-suction-dredge-demonstration-17829
END:VEVENT

END:VCALENDAR
