BEGIN:VCALENDAR
VERSION:2.0
PRODID:-//ChamberMaster//Event Calendar 2.0//EN
METHOD:PUBLISH
X-PUBLISHED-TTL:P3D
REFRESH-INTERVAL:P3D
CALSCALE:GREGORIAN
BEGIN:VEVENT
DTSTART;VALUE=DATE:20160713
DTEND;VALUE=DATE:20160714
TRANSP:TRANSPARENT
X-MICROSOFT-CDO-ALLDAYEVENT:TRUE
SUMMARY:Grants Pass Urban Renewal Plan ~ Open House
DESCRIPTION:A public open house will be held July 13th from 4pm-6pm in the City Council Chambers to discuss Council's consideration and adoption of the Grants Pass Urban Renewal Plan.\n\n\n\nThe purpose of an urban renewal plan is to improve specific areas of a city that are poorly developed or underdeveloped.\n\n\n\nUrban renewal plans allow for the use of tax increment financing to fund projects to address these issues.\n\n\n\nThe open house is informational only to share information and answer questions.  No testimony will be taken and no recommendation or decisions will be made at the open house.\n\n\n\nStaff and the City's consultant will be available to answer questions.\n\n\n\nMaterials will be on display to review at your own pace.  There will be no presentation\, so you can come by any time.\n\n\n\nThe public will have two other opportunities to comment on the proposal.
X-ALT-DESC;FMTTYPE=text/html:<strong>A public open house will be held July 13th from 4pm-6pm in the City Council Chambers to discuss Council&#39\;s consideration and adoption of the <u>Grants Pass Urban Renewal Plan</u>.<br />\n<br />\nThe purpose of an urban renewal plan is to improve specific areas of a city that are poorly developed or underdeveloped.<br />\n<br />\nUrban renewal plans allow for the use of tax increment financing to fund projects to address these issues.<br />\n<br />\nThe open house is informational only to share information and answer questions.&nbsp\; No testimony will be taken and no recommendation or decisions will be made at the open house.<br />\n<br />\nStaff and the City&#39\;s consultant will be available to answer questions.<br />\n<br />\nMaterials will be on display to review at your own pace.&nbsp\; There will be no presentation\, so you can come by any time.<br />\n<br />\nThe public will have two other opportunities to comment on the proposal.</strong>
LOCATION:City Council Chambers 101 NW A Street Grants Pass
UID:e.1818.17641
SEQUENCE:3
DTSTAMP:20260425T210257Z
URL:https://business.grantspasschamber.org/events/details/grants-pass-urban-renewal-plan-open-house-07-13-2016-17641
END:VEVENT

END:VCALENDAR
