BEGIN:VCALENDAR
VERSION:2.0
PRODID:-//ChamberMaster//Event Calendar 2.0//EN
METHOD:PUBLISH
X-PUBLISHED-TTL:P3D
REFRESH-INTERVAL:P3D
CALSCALE:GREGORIAN
BEGIN:VEVENT
DTSTART;VALUE=DATE:20160312
DTEND;VALUE=DATE:20160313
TRANSP:TRANSPARENT
X-MICROSOFT-CDO-ALLDAYEVENT:TRUE
SUMMARY:Grants Pass Vendor Expo
DESCRIPTION:"Giveaway Every 15 Minutes"\n\n\n\nFeatured Vendors:\n\nYounique\, Salon Services\, South Hill Designs\, Magnabilities\, Lilian's Crafts\, Fuzzy Bee Inspirations\, Doterra Essential Oils\, Thirity-One\, Damsel In Defense\, Eco Tots\, Tupperware\, Noah's Bees & Products\, make-A-Scene Photography\, Sugar Bear Pen's-n-Stuff\, ItWorks\, Jamberry\, Marie's Inspired Gifts\, PartyLite...................And Many More ! ! ! \n\n\n\nPlease join us for this amazing night out of shopping and fun there will be prizes raffled off through out the evening!!! Invite your friends and family and bring them out for a great night together.\n\n\n\n~ Raffle to support The Hugo Ladies Club/Schoolhouse Quilters ~
X-ALT-DESC;FMTTYPE=text/html:<span style="font-size:18px\;"><em><strong>&quot\;Giveaway Every 15 Minutes&quot\;</strong></em></span><br />\n<br />\n<u><span style="font-size:16px\;"><strong>Featured Vendors:</strong></span></u><br />\n<strong>Younique\, Salon Services\, South Hill Designs\, Magnabilities\, Lilian&#39\;s Crafts\, Fuzzy Bee Inspirations\, Doterra Essential Oils\, Thirity-One\, Damsel In Defense\, Eco Tots\, Tupperware\, Noah&#39\;s Bees &amp\; Products\, make-A-Scene Photography\, Sugar Bear Pen&#39\;s-n-Stuff\, ItWorks\, Jamberry\, Marie&#39\;s Inspired Gifts\, PartyLite...................<u>And Many More ! ! ! </u><br />\n<br />\n<u><span style="color: rgb(78\, 86\, 101)\; font-family: helvetica\, arial\, sans-serif\; font-size: 14px\; font-style: normal\; font-variant: normal\; font-weight: normal\; letter-spacing: normal\; line-height: 18.76px\; orphans: auto\; text-align: start\; text-indent: 0px\; text-transform: none\; white-space: normal\; widows: 1\; word-spacing: 0px\; -webkit-text-stroke-width: 0px\; display: inline !important\; float: none\; background-color: rgb(255\, 255\, 255)\;">Please join us for this amazing night out of shopping and fun there will be prizes raffled off through out the evening!!! Invite your friends and family and bring them out for a great night together.</span></u></strong><br />\n<br />\n<strong>~ Raffle to support The Hugo Ladies Club/Schoolhouse Quilters ~ </strong>
LOCATION:The Fruitdale Grange 1440 Parkdale Drive Grants Pass
UID:e.1818.16856
SEQUENCE:3
DTSTAMP:20260426T030739Z
URL:https://business.grantspasschamber.org/events/details/grants-pass-vendor-expo-03-12-2016-16856
END:VEVENT

END:VCALENDAR
