BEGIN:VCALENDAR
VERSION:2.0
PRODID:-//ChamberMaster//Event Calendar 2.0//EN
METHOD:PUBLISH
X-PUBLISHED-TTL:P3D
REFRESH-INTERVAL:P3D
CALSCALE:GREGORIAN
BEGIN:VEVENT
DTSTART:20160409T000000Z
DTEND:20160409T020000Z
X-MICROSOFT-CDO-ALLDAYEVENT:FALSE
SUMMARY:Grants Pass Vendor Expo
DESCRIPTION:Multiple Vendors\, with drawing and prizes\n\nRaffle to support The Hugo Ladies Club/Schoolhouse Quilters
X-ALT-DESC;FMTTYPE=text/html:<strong>Multiple Vendors\, with drawing and prizes<br />\nRaffle to support The Hugo Ladies Club/Schoolhouse Quilters</strong>
LOCATION:Fruitdale Grange 1440 Parkdale Dr Grants Pass OR 97526
UID:e.1818.17233
SEQUENCE:3
DTSTAMP:20260426T013437Z
URL:https://business.grantspasschamber.org/events/details/grants-pass-vendor-expo-04-08-2016-17233
END:VEVENT

END:VCALENDAR
